Workbook
Name Periodo: Hoja2!$D$1:$D$2
Name Planes: Hoja2!$A$1:$A$13
Name TABLA1: '1er Corte'!$A$12:$AA$72

Sheet 1er Corte
D2: Proceso Direccionamiento Estratégico y Planeación Formato Planes Consolidados | G2: Código: | H2: F-E-1200-07
G4: Versión: | H4: 1
A7: AÑO:
A8: ACTIVIDADES DE LOS PLANES INSTITUCIONALES | N8: REPORTE AVANCES ACTIVIDADES POR CUATRIMESTRE | R8: % AVANCE ACTIVIDADES POR CUATRIMESTRE | W8: PROPUESTA NOMBRE ARCHIVOS DE SOPORTE | X8: AVANCE ACCIONES
A10: PLAN | B10: No. | C10: DESCRIPCIÓN ESTRATEGIA, SUBCOMPONENTE, RIESGO, PELIGRO O HALLAZGO | D10: PROCESO O GRUPO AL QUE CORRESPONDE | E10: ACCIÓN | F10: GRUPOS DE TRABAJO INVOLUCRADOS | G10: RESPONSABLE REPORTAR AVANCE | H10: FECHA INICIO | I10: FECHA FINALIZACIÓN | J10: DENOMINACIÓN META | K10: META | L10: INDICADOR O REGISTRO EVIDENCIA | M10: Acumulado y Reportado en vigencias anteriores | N10: Avance o Ejecución (Acumulado) | Q10: OBSERVACIONES O CAUSAS DE INCUMPLIMIENTO EN LAS METAS | R10: ACUMULADO | S10: (%) cuatrimestre Acumulado | V10: Meta (%) Acumulada | W10: PROPUESTA NOMBRE ARCHIVOS DE SOPORTE | X10: con Avance | Y10: Sin Avance | Z10: finalizada | AA10: FECHA CORTE
N11: 1er | O11: 2do | P11: 3er | S11: 1er | T11: 2do | U11: 3er
A12: C1 | B12: C3 | C12: C4 | D12: C5 | E12: C6 | F12: C7 | G12: C8 | H12: C9 | I12: C10 | J12: C11 | K12: C12 | L12: C13 | M12: C14 | N12: C15 | O12: C16 | P12: C17 | Q12: C18 | R12: C19 | S12: C20 | T12: C21 | U12: C22 | V12: C23 | W12: C24 | X12: C25 | Y12: C26 | Z12: C27 | AA12: Vencida
R13: =IF((LEN(M13)+LEN(N13)+LEN(O13)+LEN(P13))=0,"",MAX(M13:P13)) | S13: =IF((LEN(N13)+LEN(O13)+LEN(P13))=0,"",N13/K13) | T13: =IF((LEN(N13)+LEN(O13)+LEN(P13))=0,"",IF(O13<>"",O13/K13,"")) | U13: =IF((LEN(N13)+LEN(O13)+LEN(P13))=0,"",IF(P13<>"",$R13/K13,"")) | V13: =IF((LEN(M13)+LEN(N13)+LEN(O13)+LEN(P13))=0,"",R13/K13) | W13: =IF(A13<>"",VLOOKUP(A13,Hoja2!$A$1:$B$13,2,FALSE)&IF(A13<>"Plan de Mejora AGR"," "&#REF!," Id")&" "&B13&" Sp ","") | X13: =IF(AND(V13>0%,V13<100%),1,"") | Y13: =IF(OR(V13="",V13<=0%),1,"") -> 1 | Z13: =IF(V13=100%,1,"") | AA13: =IF(AND(V13<100%,I13<$AA$11),1,"")
R14: =IF((LEN(M14)+LEN(N14)+LEN(O14)+LEN(P14))=0,"",MAX(M14:P14)) | S14: =IF((LEN(N14)+LEN(O14)+LEN(P14))=0,"",N14/K14) | T14: =IF((LEN(N14)+LEN(O14)+LEN(P14))=0,"",IF(O14<>"",O14/K14,"")) | U14: =IF((LEN(N14)+LEN(O14)+LEN(P14))=0,"",IF(P14<>"",$R14/K14,"")) | V14: =IF((LEN(M14)+LEN(N14)+LEN(O14)+LEN(P14))=0,"",R14/K14) | W14: =IF(A14<>"",VLOOKUP(A14,Hoja2!$A$1:$B$13,2,FALSE)&IF(A14<>"Plan de Mejora AGR"," "&#REF!," Id")&" "&B14&" Sp ","") | X14: =IF(AND(V14>0%,V14<100%),1,"") | Y14: =IF(OR(V14="",V14<=0%),1,"") -> 1 | Z14: =IF(V14=100%,1,"") | AA14: =IF(AND(V14<100%,I14<$AA$11),1,"")
R15: =IF((LEN(M15)+LEN(N15)+LEN(O15)+LEN(P15))=0,"",MAX(M15:P15)) | S15: =IF((LEN(N15)+LEN(O15)+LEN(P15))=0,"",N15/K15) | T15: =IF((LEN(N15)+LEN(O15)+LEN(P15))=0,"",IF(O15<>"",O15/K15,"")) | U15: =IF((LEN(N15)+LEN(O15)+LEN(P15))=0,"",IF(P15<>"",$R15/K15,"")) | V15: =IF((LEN(M15)+LEN(N15)+LEN(O15)+LEN(P15))=0,"",R15/K15) | W15: =IF(A15<>"",VLOOKUP(A15,Hoja2!$A$1:$B$13,2,FALSE)&IF(A15<>"Plan de Mejora AGR"," "&#REF!," Id")&" "&B15&" Sp ","") | X15: =IF(AND(V15>0%,V15<100%),1,"") | Y15: =IF(OR(V15="",V15<=0%),1,"") -> 1 | Z15: =IF(V15=100%,1,"") | AA15: =IF(AND(V15<100%,I15<$AA$11),1,"")
R16: =IF((LEN(M16)+LEN(N16)+LEN(O16)+LEN(P16))=0,"",MAX(M16:P16)) | S16: =IF((LEN(N16)+LEN(O16)+LEN(P16))=0,"",N16/K16) | T16: =IF((LEN(N16)+LEN(O16)+LEN(P16))=0,"",IF(O16<>"",O16/K16,"")) | U16: =IF((LEN(N16)+LEN(O16)+LEN(P16))=0,"",IF(P16<>"",$R16/K16,"")) | V16: =IF((LEN(M16)+LEN(N16)+LEN(O16)+LEN(P16))=0,"",R16/K16) | W16: =IF(A16<>"",VLOOKUP(A16,Hoja2!$A$1:$B$13,2,FALSE)&IF(A16<>"Plan de Mejora AGR"," "&#REF!," Id")&" "&B16&" Sp ","") | X16: =IF(AND(V16>0%,V16<100%),1,"") | Y16: =IF(OR(V16="",V16<=0%),1,"") -> 1 | Z16: =IF(V16=100%,1,"") | AA16: =IF(AND(V16<100%,I16<$AA$11),1,"")
R17: =IF((LEN(M17)+LEN(N17)+LEN(O17)+LEN(P17))=0,"",MAX(M17:P17)) | S17: =IF((LEN(N17)+LEN(O17)+LEN(P17))=0,"",N17/K17) | T17: =IF((LEN(N17)+LEN(O17)+LEN(P17))=0,"",IF(O17<>"",O17/K17,"")) | U17: =IF((LEN(N17)+LEN(O17)+LEN(P17))=0,"",IF(P17<>"",$R17/K17,"")) | V17: =IF((LEN(M17)+LEN(N17)+LEN(O17)+LEN(P17))=0,"",R17/K17) | W17: =IF(A17<>"",VLOOKUP(A17,Hoja2!$A$1:$B$13,2,FALSE)&IF(A17<>"Plan de Mejora AGR"," "&#REF!," Id")&" "&B17&" Sp ","") | X17: =IF(AND(V17>0%,V17<100%),1,"") | Y17: =IF(OR(V17="",V17<=0%),1,"") -> 1 | Z17: =IF(V17=100%,1,"") | AA17: =IF(AND(V17<100%,I17<$AA$11),1,"")
R18: =IF((LEN(M18)+LEN(N18)+LEN(O18)+LEN(P18))=0,"",MAX(M18:P18)) | S18: =IF((LEN(N18)+LEN(O18)+LEN(P18))=0,"",N18/K18) | T18: =IF((LEN(N18)+LEN(O18)+LEN(P18))=0,"",IF(O18<>"",O18/K18,"")) | U18: =IF((LEN(N18)+LEN(O18)+LEN(P18))=0,"",IF(P18<>"",$R18/K18,"")) | V18: =IF((LEN(M18)+LEN(N18)+LEN(O18)+LEN(P18))=0,"",R18/K18) | W18: =IF(A18<>"",VLOOKUP(A18,Hoja2!$A$1:$B$13,2,FALSE)&IF(A18<>"Plan de Mejora AGR"," "&#REF!," Id")&" "&B18&" Sp ","") | X18: =IF(AND(V18>0%,V18<100%),1,"") | Y18: =IF(OR(V18="",V18<=0%),1,"") -> 1 | Z18: =IF(V18=100%,1,"") | AA18: =IF(AND(V18<100%,I18<$AA$11),1,"")
R19: =IF((LEN(M19)+LEN(N19)+LEN(O19)+LEN(P19))=0,"",MAX(M19:P19)) | S19: =IF((LEN(N19)+LEN(O19)+LEN(P19))=0,"",N19/K19) | T19: =IF((LEN(N19)+LEN(O19)+LEN(P19))=0,"",IF(O19<>"",O19/K19,"")) | U19: =IF((LEN(N19)+LEN(O19)+LEN(P19))=0,"",IF(P19<>"",$R19/K19,"")) | V19: =IF((LEN(M19)+LEN(N19)+LEN(O19)+LEN(P19))=0,"",R19/K19) | W19: =IF(A19<>"",VLOOKUP(A19,Hoja2!$A$1:$B$13,2,FALSE)&IF(A19<>"Plan de Mejora AGR"," "&#REF!," Id")&" "&B19&" Sp ","") | X19: =IF(AND(V19>0%,V19<100%),1,"") | Y19: =IF(OR(V19="",V19<=0%),1,"") -> 1 | Z19: =IF(V19=100%,1,"") | AA19: =IF(AND(V19<100%,I19<$AA$11),1,"")
R20: =IF((LEN(M20)+LEN(N20)+LEN(O20)+LEN(P20))=0,"",MAX(M20:P20)) | S20: =IF((LEN(N20)+LEN(O20)+LEN(P20))=0,"",N20/K20) | T20: =IF((LEN(N20)+LEN(O20)+LEN(P20))=0,"",IF(O20<>"",O20/K20,"")) | U20: =IF((LEN(N20)+LEN(O20)+LEN(P20))=0,"",IF(P20<>"",$R20/K20,"")) | V20: =IF((LEN(M20)+LEN(N20)+LEN(O20)+LEN(P20))=0,"",R20/K20) | W20: =IF(A20<>"",VLOOKUP(A20,Hoja2!$A$1:$B$13,2,FALSE)&IF(A20<>"Plan de Mejora AGR"," "&#REF!," Id")&" "&B20&" Sp ","") | X20: =IF(AND(V20>0%,V20<100%),1,"") | Y20: =IF(OR(V20="",V20<=0%),1,"") -> 1 | Z20: =IF(V20=100%,1,"") | AA20: =IF(AND(V20<100%,I20<$AA$11),1,"")
R21: =IF((LEN(M21)+LEN(N21)+LEN(O21)+LEN(P21))=0,"",MAX(M21:P21)) | S21: =IF((LEN(N21)+LEN(O21)+LEN(P21))=0,"",N21/K21) | T21: =IF((LEN(N21)+LEN(O21)+LEN(P21))=0,"",IF(O21<>"",O21/K21,"")) | U21: =IF((LEN(N21)+LEN(O21)+LEN(P21))=0,"",IF(P21<>"",$R21/K21,"")) | V21: =IF((LEN(M21)+LEN(N21)+LEN(O21)+LEN(P21))=0,"",R21/K21) | W21: =IF(A21<>"",VLOOKUP(A21,Hoja2!$A$1:$B$13,2,FALSE)&IF(A21<>"Plan de Mejora AGR"," "&#REF!," Id")&" "&B21&" Sp ","") | X21: =IF(AND(V21>0%,V21<100%),1,"") | Y21: =IF(OR(V21="",V21<=0%),1,"") -> 1 | Z21: =IF(V21=100%,1,"") | AA21: =IF(AND(V21<100%,I21<$AA$11),1,"")
R22: =IF((LEN(M22)+LEN(N22)+LEN(O22)+LEN(P22))=0,"",MAX(M22:P22)) | S22: =IF((LEN(N22)+LEN(O22)+LEN(P22))=0,"",N22/K22) | T22: =IF((LEN(N22)+LEN(O22)+LEN(P22))=0,"",IF(O22<>"",O22/K22,"")) | U22: =IF((LEN(N22)+LEN(O22)+LEN(P22))=0,"",IF(P22<>"",$R22/K22,"")) | V22: =IF((LEN(M22)+LEN(N22)+LEN(O22)+LEN(P22))=0,"",R22/K22) | W22: =IF(A22<>"",VLOOKUP(A22,Hoja2!$A$1:$B$13,2,FALSE)&IF(A22<>"Plan de Mejora AGR"," "&#REF!," Id")&" "&B22&" Sp ","") | X22: =IF(AND(V22>0%,V22<100%),1,"") | Y22: =IF(OR(V22="",V22<=0%),1,"") -> 1 | Z22: =IF(V22=100%,1,"") | AA22: =IF(AND(V22<100%,I22<$AA$11),1,"")
R23: =IF((LEN(M23)+LEN(N23)+LEN(O23)+LEN(P23))=0,"",MAX(M23:P23)) | S23: =IF((LEN(N23)+LEN(O23)+LEN(P23))=0,"",N23/K23) | T23: =IF((LEN(N23)+LEN(O23)+LEN(P23))=0,"",IF(O23<>"",O23/K23,"")) | U23: =IF((LEN(N23)+LEN(O23)+LEN(P23))=0,"",IF(P23<>"",$R23/K23,"")) | V23: =IF((LEN(M23)+LEN(N23)+LEN(O23)+LEN(P23))=0,"",R23/K23) | W23: =IF(A23<>"",VLOOKUP(A23,Hoja2!$A$1:$B$13,2,FALSE)&IF(A23<>"Plan de Mejora AGR"," "&#REF!," Id")&" "&B23&" Sp ","") | X23: =IF(AND(V23>0%,V23<100%),1,"") | Y23: =IF(OR(V23="",V23<=0%),1,"") -> 1 | Z23: =IF(V23=100%,1,"") | AA23: =IF(AND(V23<100%,I23<$AA$11),1,"")
R24: =IF((LEN(M24)+LEN(N24)+LEN(O24)+LEN(P24))=0,"",MAX(M24:P24)) | S24: =IF((LEN(N24)+LEN(O24)+LEN(P24))=0,"",N24/K24) | T24: =IF((LEN(N24)+LEN(O24)+LEN(P24))=0,"",IF(O24<>"",O24/K24,"")) | U24: =IF((LEN(N24)+LEN(O24)+LEN(P24))=0,"",IF(P24<>"",$R24/K24,"")) | V24: =IF((LEN(M24)+LEN(N24)+LEN(O24)+LEN(P24))=0,"",R24/K24) | W24: =IF(A24<>"",VLOOKUP(A24,Hoja2!$A$1:$B$13,2,FALSE)&IF(A24<>"Plan de Mejora AGR"," "&#REF!," Id")&" "&B24&" Sp ","") | X24: =IF(AND(V24>0%,V24<100%),1,"") | Y24: =IF(OR(V24="",V24<=0%),1,"") -> 1 | Z24: =IF(V24=100%,1,"") | AA24: =IF(AND(V24<100%,I24<$AA$11),1,"")
... R72: =IF((LEN(M72)+LEN(N72)+LEN(O72)+LEN(P72))=0,"",MAX(M72:P72)) | S72: =IF((LEN(N72)+LEN(O72)+LEN(P72))=0,"",N72/K72) | T72: =IF((LEN(N72)+LEN(O72)+LEN(P72))=0,"",IF(O72<>"",O72/K72,"")) | U72: =IF((LEN(N72)+LEN(O72)+LEN(P72))=0,"",IF(P72<>"",$R72/K72,"")) | V72: =IF((LEN(M72)+LEN(N72)+LEN(O72)+LEN(P72))=0,"",R72/K72) | W72: =IF(A72<>"",VLOOKUP(A72,Hoja2!$A$1:$B$13,2,FALSE)&IF(A72<>"Plan de Mejora AGR"," "&#REF!," Id")&" "&B72&" Sp ","") | X72: =IF(AND(V72>0%,V72<100%),1,"") | Y72: =IF(OR(V72="",V72<=0%),1,"") -> 1 | Z72: =IF(V72=100%,1,"") | AA72: =IF(AND(V72<100%,I72<$AA$11),1,"")
A120: Elaboró: | D120: Revisó: | G120: Aprobó: Comité SICME
A121: Gerencia - Grupo de Planeación | D121: Grupo de Planeación | G121: Fecha: 04 de septiembre de 2020

Sheet Hoja2
A1: Plan de Acción | B1: PA | D1: Cuatrimestral
A2: Plan de Mejora AGR | B2: PM AGR | D2: Semestral
A3: Plan de Mejora OCI | B3: PM OCI
A4: PAAC - Mapa de Riesgos Corrupción | B4: PAAC
A5: PAAC - Mecanismos Atención Ciudadano | B5: PAAC
A6: PAAC - Racionalización Trámites | B6: PAAC
A7: PAAC - Rendición Cuentas a la Ciudadania | B7: PAAC
A8: PAAC - Mecanismos Transparencia y Acceso Información | B8: PAAC
A9: PAAC - Participación Ciudadana | B9: PAAC
A10: PAAC - Otras iniciativas para combatir la corrupción | B10: PAAC
A11: Mapa de Riesgos de Corrupción | B11: MR_C
A12: Mapa de Riesgos por Proceso | B12: MR_P
A13: Mapa de Riesgos SST | B13: MR_SST
A16: Soportes | B16: Sp
... A27: Número de Anexo o soporte evidencia cumplimiento de la Acción | B27: Anexo
