Workbook
Name BaseDatos: Listas!$U$2:$U$3
Name CIUDADES: Listas!$A$1:$A$299
Name CIUDADES: #REF!
Name ciudadesCol: Listas!$K$1:$K$1076
Name ciudadesCol: #REF!
Name ELABORADOPOR: Listas!$F$1:$F$10
Name ELABORADOPOR: #REF!
Name entidad: Listas!$O$1:$O$4
Name entidad: #REF!
Name GENERADOPOR: Listas!$F$1:$F$1
Name GENERADOPOR: #REF!
Name GIROCONST: Listas!$S$1:$S$4
Name GIROCONST: #REF!
Name NOMBRAMIENTO: Listas!$O$10:$O$13
Name oficinaciudad: Listas!$A$1:$A$32
Name oficinaciudad: #REF!
Name SELECTX: Listas!$X$1
Name SNA: Listas!$T$1:$T$3
Name SNA: #REF!
Name UBICAFBS: Listas!$O$6:$O$8

Sheet CGR
A1: Seleccione la base de Datos conforme la linea de crédito: | M1: Vivienda | V1: =IF(M1=Listas!U2,1,IF(M1=Listas!U3,2,"")) -> 1
H2: Proceso Gestión Crédito y Cartera Formato para Desembolso de Crédito | V2: Código: | X2: F-M-2230-10
V3: Versión: | X3: 3
A5: FORMATO PARA DESEMBOLSO DE CRÉDITO
A7: FECHA : | V7: No.CRÉDITO
A9: No. Compromiso: | H9: No. CxP: | M9: No.Obligación | S9: Orden de Pago
A12: I. BENEFICIARIO DEL CRÉDITO
A14: Nombres y Apellidos: | E14: =IF(AND(W7<>"",V1=1),VLOOKUP(W7,[1]BASE!$B$3:$BR$300,3,FALSE),IF(AND(W7<>"",V1=2),VLOOKUP(W7,#REF!,20,FALSE),"")) | U14: C.C. No. | V14: =IF(AND(W7<>"",V1=1),VLOOKUP(W7,[1]BASE!$B$3:$BR$300,2,FALSE),IF(AND(W7<>"",V1=2),VLOOKUP(W7,'[2]CONSOLIDADO CREDITOS'!$C$2:$KL$2000,7,FALSE),""))
A15: Dirección Residencia: | E15: =IF(AND(W7<>"",V1=1),VLOOKUP(W7,[1]BASE!$B$3:$BR$300,15,FALSE),IF(AND(W7<>"",V1=2),"","")) | U15: Tel / Cel: | V15: =IF(AND(W7<>"",V1=1),VLOOKUP(W7,[1]BASE!$B$3:$BR$300,16,FALSE),IF(AND(W9<>"",V1=2),"",""))
A16: Ciudad Residencia: | P16: Departamento Residencia: | Q16: =IF(W7<>"",IF(ISNA(VLOOKUP(E16,Listas!K1:L1076,2,FALSE))=TRUE,"",VLOOKUP(E16,Listas!K1:L1076,2,FALSE)),"")
A17: Nombramiento: | P17: Cargo y Grado: | Q17: =IF(W7<>"",VLOOKUP(W7,'[2]CONSOLIDADO CREDITOS'!$C$2:$K$2000,9,FALSE),"")
A18: Entidad: | T18: Ciudad :
A19: Gerencia Departam. Colegiada: | G19: =IF(AND(U18<>"",E18="Contraloría General de la República"),VLOOKUP(U18,Listas!$A$1:$D$32,2,FALSE),"") | R19: Ubicación (Funcionarios FBS):
A20: Dirección Oficina: | E20: {=IF(AND(U18<>"",E18="Contraloría General de la República"),VLOOKUP(U18,Listas!A1:C32,3,FALSE),IF(AND(S19<>"",E18="Fondo de Bienestar Social de la Contraloría General de la República"),IF(ISNA(VLOOKUP(S,Listas!O2:Q8,2,FALSE))=FALSE,VLOOKUP(S21,Listas!O2:Q8,2,FALSE),""),""))} | Q20: Piso: | R20: =IF(AND(E18<>"",E18="Fondo de Bienestar Social de la Contraloría General de la República")," 4","") | S20: Tel: | T20: =IF(AND(U18<>"",E18="Contraloría General de la República"),VLOOKUP(U18,Listas!A1:D32,4,FALSE),IF(AND(U18<>"",E18="Fondo de Bienestar Social de la Contraloría General de la República"),IF(ISNA(VLOOKUP(T20,Listas!O2:R8,3,FALSE))=FALSE,VLOOKUP(T20,Listas!O2:R8,3,FALSE),""),"")) | W20: Ext:
A22: II. CRÉDITO APROBADO
A24: Modalidad: | D24: =IF(AND(W7<>"",V1=1),VLOOKUP(W7,[1]BASE!$B$3:$BR$300,30,FALSE),IF(AND(W7<>"",V1=2),VLOOKUP(W7,'[3]CONSOLIDADO CREDITOS'!$C$2:$KL$2000,3,FALSE),"")) | J24: Acta No. | L24: =IF(AND(W7<>"",V1=1),VLOOKUP(W7,[1]BASE!$B$3:$BR$300,36,FALSE),IF(AND(W7<>"",V1=2),VLOOKUP(W7,'[4]CONSOLIDADO CREDITOS'!$C$2:$KL$2000,5,FALSE),"")) | M24: del | N24: =IF(AND(W7<>"",V1=1),VLOOKUP(W7,[1]BASE!$B$3:$BR$300,37,FALSE),IF(AND(W7<>"",V1=2),VLOOKUP(W7,'[3]CONSOLIDADO CREDITOS'!$C$2:$KL$2000,6,FALSE),"")) | V24: Tasa de Interés | W24: =IF(AND(W7<>"",V1=1),""&VLOOKUP(W7,[1]BASE!$B$3:$BR$300,39,FALSE)&"% ",IF(AND(W7<>"",V1=2),"IPC + "&VLOOKUP(W7,'[5]CONSOLIDADO CREDITOS'!$C$2:$KL$2000,22,FALSE)&" ",""))
A25: Valor Aprobado | D25: =IF(AND(W7<>"",V1=1),VLOOKUP(W7,[1]BASE!$B$3:$BR$300,31,FALSE),IF(AND(W7<>"",V1=2),VLOOKUP(W7,'[3]CONSOLIDADO CREDITOS'!$C$2:$KL$2000,11,FALSE),"")) | K25: Valor legalizado: | L25: =IF(AND(W7<>"",V1=1),VLOOKUP(W7,[1]BASE!$B$3:$BR$300,32,FALSE),IF(AND(W7<>"",V1=2),VLOOKUP(W7,'[3]CONSOLIDADO CREDITOS'!$C$2:$KL$2000,12,FALSE),"")) | U25: Valor Primera Cuota: | V25: =IF(AND(W7<>"",V1=1),VLOOKUP(W7,[1]BASE!$B$3:$BR$300,33,FALSE),IF(AND(W7<>"",V1=2),VLOOKUP(W7,'[2]CONSOLIDADO CREDITOS'!$C$2:$KL$2000,24,FALSE),""))
A27: Plazo: | C27: =IF(AND(W7<>"",V1=1),VLOOKUP(W7,[1]BASE!$B$3:$BR$300,38,FALSE),IF(AND(W7<>"",V1=2),IF(VLOOKUP(W7,'[3]CONSOLIDADO CREDITOS'!$C$2:$KL$1000,56,FALSE),VLOOKUP(W7,'[3]CONSOLIDADO CREDITOS'!$C$2:$KL$1000,56,FALSE)),"")) | N27: Porcentaje del Giro (%): | U27: Valor del Giro: | V27: =IF(L25<>"",L25*O27,"")
A29: Valor en letras: | D29: {=IF(V27<>"",nlet(V27),"")}
A32: III. DESEMBOLSO
A34: EL DESEMBOLSO DEL CRÉDITO DEBE HACERSE A NOMBRE DE:
A37: Nombre: | C37: =IF(AND(W7<>"",V1=1),VLOOKUP(W7,[1]BASE!$B$3:$BR$300,43,FALSE),IF(AND(W7<>"",V1=2),VLOOKUP(W7,'[3]CONSOLIDADO CREDITOS'!$C$2:$KL$2000,35,FALSE),"")) | M37: C.C.o NIT: | O37: =IF(AND(W7<>"",V1=1),VLOOKUP(W7,[1]BASE!$B$3:$BR$300,44,FALSE),IF(AND(W7<>"",V1=2),VLOOKUP(W7,'[4]CONSOLIDADO CREDITOS'!$C$2:$KL$2000,37,FALSE),"")) | U37: Valor | V37: =IF(W7<>"",V27-W46,"")
A38: Cuenta: | C38: =IF(AND(W7<>"",V1=1),VLOOKUP(W7,[1]BASE!$B$3:$BR$300,45,FALSE),IF(AND(W7<>"",V1=2),VLOOKUP(W7,'[4]CONSOLIDADO CREDITOS'!$C$2:$KL$2000,39,FALSE),"")) | K38: Tipo de Cuenta: | L38: =IF(AND(W7<>"",V1=1),VLOOKUP(W7,[1]BASE!$B$3:$BR$300,46,FALSE),IF(AND(W7<>"",V1=2),VLOOKUP(W7,'[3]CONSOLIDADO CREDITOS'!$C$2:$KL$2000,40,FALSE),"")) | P38: Entidad: | R38: =IF(AND(W7<>"",V1=1),VLOOKUP(W7,[1]BASE!$B$3:$BR$300,47,FALSE),IF(AND(W7<>"",V1=2),VLOOKUP(W7,'[3]CONSOLIDADO CREDITOS'!$C$2:$KL$2000,41,FALSE),""))
A42: Nombre: | C42: =IF(AND(W7<>"",V1=1,AA43<>""),VLOOKUP(W7,[6]BASE!$B$3:$BR$300,49,FALSE),IF(AND(W7<>"",V1=2),"","")) | M42: C.C.o NIT: | O42: =IF(AND(W7<>"",V1=1,AA43<>""),VLOOKUP(W7,[6]BASE!$B$3:$BR$300,50,FALSE),IF(AND(W7<>"",V1=2),"","")) | U42: Valor | V42: =IF(AND(W7<>"",V1=1,AA43<>""),VLOOKUP(W7,[6]BASE!$B$3:$BR$300,54,FALSE),IF(AND(W7<>"",V1=2),"",0)) -> 0
A43: Cuenta: | C43: {=IF(AND(W7<>"",V1=1,AA43<>""),VLOOKUP(W,[6]BASE!$B$3:$BR$300,51,FALSE),IF(AND(W7<>"",V1=2),"",""))} | K43: Tipo de Cuenta: | L43: =IF(AND(W7<>"",V1=1,AA44<>""),VLOOKUP(W7,[6]BASE!$B$3:$BR$300,52,FALSE),IF(AND(#REF!<>"",V1=2),"","")) -> #REF! | P43: Entidad: | R43: =IF(AND(W7<>"",V1=1,AA43<>""),VLOOKUP(W7,[6]BASE!$B$3:$BR$300,53,FALSE),IF(AND(W7<>"",V1=2),"","")) | AB43: =IF(W7<>"","SEGUNDO BENEFICIARIO","")
A46: Nombre: | C46: FONDO DE BIENESTAR SOCIAL CGR | K46: NIT: | L46: 800252683-3 | V46: Valor Descuento Cuota Administ. 1% | W46: =IF(AND($W$7<>"",$O$27<>30%),ROUND(L25*1%,0),0) -> 0
A50: IV. DETALLE GARANTIAS
A52: Pagaré y Carta de Instrucciones No. | H52: =IF(AND(W7<>"",V1=1),VLOOKUP(W7,[1]BASE!$B$3:$BR$300,41,FALSE),IF(AND(W7<>"",V1=2),VLOOKUP(W7,'[4]CONSOLIDADO CREDITOS'!$C$2:$KL$2000,27,FALSE),"")) | S52: Fecha Emisión Pagaré: | T52: =IF(AND(W7<>"",V1=1),VLOOKUP(W7,[1]BASE!$B$3:$BR$300,42,FALSE),IF(AND(W7<>"",V1=2),VLOOKUP(W7,'[4]CONSOLIDADO CREDITOS'!$C$2:$KL$2000,28,FALSE),""))
A54: Caracterísiticas Inmueble:
A56: Dirección Iinmueble Adquirido | G56: =IF(AND(W7<>"",V1=1),VLOOKUP(W7,[1]BASE!$B$3:$BR$300,20,FALSE),IF(AND(W7<>"",V1=2),"",""))
A57: Ciudad Inmueble: | E57: =IF(AND(W7<>"",V1=1),VLOOKUP(W7,[1]BASE!$B$3:$BR$300,23,FALSE),IF(AND(W7<>"",V1=2),"","")) | J57: Departamento Inmueble: | O57: =IF(E57<>"",IF(ISNA(VLOOKUP(E57,Listas!K1:L1121,2,FALSE))=TRUE,"",VLOOKUP(E57,Listas!K1:L1121,2,FALSE)),"") | U57: Teléfono: | V57: =IF(AND(W7<>"",V1=1),VLOOKUP(W7,[7]BASE!$B$3:$BR$300,21,FALSE),IF(AND(W7<>"",V1=2),"",""))
A58: Matrícula Inmobiliaria | E58: =IF(AND(W7<>"",V1=1),VLOOKUP(W7,[1]BASE!$B$3:$BR$300,22,FALSE),IF(AND(W7<>"",V1=2),"","")) | J58: Escritura No.: | L58: =IF(AND(W7<>"",V1=1),VLOOKUP(W7,[1]BASE!$B$3:$BR$300,24,FALSE),IF(AND(W7<>"",V1=2),"","")) | O58: Fecha: | P58: =IF(AND(W7<>"",V1=1),VLOOKUP(W7,[1]BASE!$B$3:$BR$300,25,FALSE),IF(AND(W7<>"",V1=2),"","")) | S58: Notaria: | T58: =IF(AND(W7<>"",V1=1),VLOOKUP(W7,[1]BASE!$B$3:$BR$300,26,FALSE),IF(AND(W7<>"",V1=2),"","")) | V58: Ciudad:
A60: Caracterísiticas Vehículo:
A62: Marca: | K62: Placa No.: | T62: Motor No.:
A63: Modelo: | K63: Servicio: | T63: Serie No.:
A64: Color: | K64: Línea: | T64: Capacidad:
A65: Chasis No.: | K65: Tipo Carrocería: | T65: Clase:
A67: V. ESTUDIO JURÍDICO Y REQUISITOS
A70: Funcionario Activo | J70: Registra mora Mayor a 90 días | X70: Verificación Lista de Chequeo
A72: Capacidad de Pago | J72: Registra mora Colegio CGR
...

Sheet Listas
A1: BOGOTA D.C | B1: NIVEL CENTRAL | C1: Carrera 69 No.44 - 35 | D1: 5187000 | F1: DIANA CAROLINA MOLINA CARVAJAL | G1: Directora de Desarrollo y Bienestar Social | K1: BOGOTÁ D.C | L1: BOGOTÁ D.C | M1: =LEN(L1) -> 10 | O1: Contraloría General de la República | P1: Carrera 69 No.44 - 35 | T1: SI | U1: Base de Datos | X1: X
A2: ARAUCA | B2: ARAUCA | C2: Carrera 22 Nº 19 - 27 | D2: 8853214 | F2: LORELEY GIANNINA RIVERA CLAVIJO | G2: Subdirectora de Desarrollo y Emprendimiento | K2: ABEJORRAL | L2: ANTIOQUIA | M2: =LEN(L2) -> 9 | O2: Fondo de Bienestar Social de la Contraloría General de la República | P2: Carrera 69 No.44 - 35 Piso 4 | S2: 1 | T2: NO | U2: Vivienda
A3: ARMENIA | B3: QUINDIO | C3: Calle 20 A Nº 14 - 15 Piso 6 | D3: 7444835 | F3: JOSE EVER BAYONA AVENDAÑO | G3: Técnico Administrativo Grupo de Crédito y Cartera | K3: ABREGO | L3: NORTE DE SANTANDER | M3: =LEN(L3) -> 18 | S3: 0.7 | T3: N/A | U3: Vehículo, Calamidad, Bienestar Integral
A4: BARRANQUILLA | B4: ATLÁNTICO | C4: Calle 70 Nº 52 - 29 Piso 2 | D4: 3613933 | F4: JORGE MARIO ESCOBAR VILLEGAS | G4: Profesional Especializado Grupo de Crédito y Cartera | K4: ABRIAQUI | L4: ANTIOQUIA | M4: =LEN(L4) -> 9 | S4: 0.3
A5: BUCARAMANGA | B5: SANTANDER | C5: Carrera 20 Nº 33 - 39 Piso 4 | D5: 6704357 | F5: GLADYS MARCELA LIEVANO GOMEZ | G5: Profesional Especializado Grupo de Crédito y Cartera | K5: ACACIAS | L5: META | M5: =LEN(L5) -> 4
A6: CALI | B6: VALLE | C6: Avenida 3ra Norte No. 61- 02 | D6: 6552983 | F6: FANNY AVELLANEDA GONZALEZ | G6: Profesional Especializado Grupo de Crédito y Cartera | K6: ACANDÍ | L6: CHOCÓ | M6: =LEN(L6) -> 5 | O6: Sede Administrativa | P6: Carrera 69 No.44 - 35 | Q6: 3532760/3779877
A7: CARTAGENA | B7: BOLÍVAR | C7: La Matuna Centro Ed. Concasa P.18 | D7: 6602751 | F7: DIANA PATRICIA PALACIOS DIAZ | G7: Técnico Administrativo Grupo de Crédito y Cartera | K7: ACEVEDO | L7: HUILA | M7: =LEN(L7) -> 5 | O7: Colegio para Hijos de empleados de la CGR | P7: Calle 57 B No. 37-34 - Barrio Nicolás de Federman | Q7: 5481977/5481970
A8: CUCUTA | B8: NTE SDER | C8: Avenida 2 14 - 68 La Playa | D8: 5712558 | F8: LO TRASLADARON | G8: Técnico Administrativo Grado 10 | K8: ACHÍ | L8: ATLANTICO | M8: =LEN(L8) -> 9 | O8: Centro Médico CGR | P8: Calle 35 No. 21 – 48 | Q8: 3779892/3779891
A9: FLORENCIA | B9: CAQUETA | C9: Kilometro 2 Via Morélia Antiguo Incora | D9: 4358095 | F9: LO TRASLADARON | G9: Asistencial 21 | K9: AGRADO | L9: HUILA | M9: =LEN(L9) -> 5
A10: IBAGUÉ | B10: TOLIMA | C10: Calle 14 No. 3A-34 | D10: 2619620 | K10: AGUA DE DIOS | L10: CUNDINAMARCA | M10: =LEN(L10) -> 12 | O10: CARRERA ADMINISTRATIVA
A11: LETICIA | B11: AMAZONAS | C11: Calle Novena No. 10 - 49 Barrio Centro | D11: 5927818 | F11: FANNY AVELLANEDA GONZALEZ | G11: Profesional Especializado Grupo de Crédito y Cartera | K11: AGUACHICA | L11: CESAR | M11: =LEN(L11) -> 5 | O11: LIBRE NOMBRAMIENTO Y REMOCION
A12: MANIZALES | B12: CALDAS | C12: Calle 21 23-22 Ed.Seguros Atlas P. 6 | D12: 8802401 | F12: LORELEY GIANNINA RIVERA CLAVIJO | G12: Subdirectora de Desarrollo y Emprendimiento | K12: AGUADA | L12: SANTANDER | M12: =LEN(L12) -> 9 | O12: PROVISIONAL
A13: MEDELLIN | B13: ANTIOQUIA | C13: Carrera 46 Nº 52-36 Ed.Vicente Uribe Rendón P.8 | D13: 2517419 | K13: AGUADAS | L13: CALDAS | M13: =LEN(L13) -> 6
A14: MITÚ | B14: VAUPÉS | C14: Carrera 13 No. 10 - 42 Mitú - Vaupés | D14: 5642299 | K14: AGUAZUL | L14: CASANARE | M14: =LEN(L14) -> 8
A15: MOCOA | B15: PUTUMAYO | C15: Carrera 8 No. 13-56 Barrio Olimpico | D15: 4204350 | K15: AGUSTÍN CODAZZI | L15: CESAR | M15: =LEN(L15) -> 5
A16: MONTERIA | B16: CORDOBÁ | C16: Calle 27 Nº 8 - 47 | D16: 7810350 | K16: AIPE | L16: HUILA | M16: =LEN(L16) -> 5
A17: NEIVA | B17: HUILA | C17: Calle 6 Nº 5-33 Torre C P.4 C.C. Metropolitano | D17: 8719022 | K17: ALBÁN | L17: CUNDINAMARCA | M17: =LEN(L17) -> 12
A18: PASTO | B18: NARIÑO | C18: Calle 18A No. 25-64 Pasaje Corazón de Jesús | D18: 7226812 | K18: ALBÁN (SAN JOSÉ) | L18: NARIÑO | M18: =LEN(L18) -> 6
A19: PEREIRA | B19: RISARALDA | C19: Calle 17 6-42 P. 5 - 6 - 7 Ed. Club Rialto | D19: 3331642 | K19: ALBANIA | L19: CAQUETÁ | M19: =LEN(L19) -> 7
A20: POPAYAN | B20: CAUCA | C20: Carrera 7 No 1N-66. Ed.Lotería Cauca 3er piso | D20: 8311331 | K20: ALBANIA | L20: SANTANDER | M20: =LEN(L20) -> 9
A21: PUERTO CARREÑO | B21: VICHADA | C21: Calle 18 Nº 6 - 18 piso 2 | D21: 5654140 | K21: ALCALÁ | L21: VALLE | M21: =LEN(L21) -> 5
A22: PUERTO INIRIDA | B22: GUAINIA | C22: Calle 15 Nº 7 - 33 1er Piso | D22: 5656266 | K22: ALDANA | L22: NARIÑO | M22: =LEN(L22) -> 6
A23: QUIBDO | B23: CHOCO | C23: Calle 24 3-03 Ed.Banco Agrario Piso 4 | D23: 6711755 | K23: ALEJANDRÍA | L23: ANTIOQUIA | M23: =LEN(L23) -> 9
A24: RIOACHA | B24: GUAJIRA | C24: Carrera 15 Nº 14B - 49 Avenida los Estudiantes | D24: 7273859 | K24: ALGECIRAS | L24: HUILA | M24: =LEN(L24) -> 5
... A32: YOPAL | B32: CASANARE | C32: Carrera 21 Nº 9 - 48 | D32: 6358112 | K32: AMAGÁ | L32: ANTIOQUIA | M32: =LEN(L32) -> 9
K33: AMALFI | L33: ANTIOQUIA | M33: =LEN(L33) -> 9
K34: AMBALEMA | L34: TOLIMA | M34: =LEN(L34) -> 6
K35: ANAPOIMA | L35: CUNDINAMARCA | M35: =LEN(L35) -> 12
K36: ANCUYÁ | L36: NARIÑO | M36: =LEN(L36) -> 6
K37: ANDALUCÍA | L37: VALLE | M37: =LEN(L37) -> 5
K38: ANDES | L38: ANTIOQUIA | M38: =LEN(L38) -> 9
K39: ANGELÓPOLIS | L39: ANTIOQUIA | M39: =LEN(L39) -> 9
K40: ANGOSTURA | L40: ANTIOQUIA | M40: =LEN(L40) -> 9
K41: ANOLAIMA | L41: CUNDINAMARCA | M41: =LEN(L41) -> 12
K42: ANORÍ | L42: ANTIOQUIA | M42: =LEN(L42) -> 9
K43: ANSERMA | L43: CALDAS | M43: =LEN(L43) -> 6
K44: ANSERMANUEVO | L44: VALLE | M44: =LEN(L44) -> 5
... K1076: ZIPAQUIRÁ | L1076: CUNDINAMARCA | M1076: =LEN(L1076) -> 12
