Workbook
Name FUNCIONAMIENTO: FORMATO!#REF!
Name INVERSIÓN: FORMATO!#REF!

Sheet FORMATO
F2: Proceso de Gestión Financiera Formato de Solicitud de CDP | H2: Código: | J2: F-A-3032-01
H4: Versión | J4: 2
K8: DIA | L8: MES | M8: AÑO
C9: TIPO DE SOLICITUD : | I9: FECHA SOLICITUD:
C12: =IF($E$9="EXPEDICIÓN",IF($E$9="REDUCCIÓN","No.CDP",""),"No.CDP") -> No.CDP
C14: OBJETO Y/O JUSTIFICACIÓN: (Máximo 250 caracteres)
C21: IMPUTACIÓN PRESUPUESTAL
C23: Código Rubro | D23: Descripción Rubro Presupuestal | J23: Rec | K23: Fuente | L23: Valor
D24: =IF(C24="","",VLOOKUP(C24,FBSCGR!$J$9:$K$159,2,0)) | K24: =IF(J24="","",VLOOKUP(J24,$H$1047974:$I$1047978,2,0))
D25: =IF(C25="","",VLOOKUP(C25,FBSCGR!$J$9:$K$159,2,0)) | K25: =IF(J25="","",VLOOKUP(J25,$H$1047974:$I$1047978,2,0))
D26: =IF(C26="","",VLOOKUP(C26,FBSCGR!J8:K158,2,0)) | K26: =IF(J26="","",VLOOKUP(J26,$H$1047974:$I$1047978,2,0))
D27: =IF(C27="","",VLOOKUP(C27,FBSCGR!$J$9:$K$159,2,0)) | K27: =IF(J27="","",VLOOKUP(J27,$H$1047974:$I$1047978,2,0))
D28: =IF(C28="","",VLOOKUP(C28,FBSCGR!J10:K160,2,0)) | K28: =IF(J28="","",VLOOKUP(J28,$H$1047974:$I$1047978,2,0))
D29: =IF(C29="","",VLOOKUP(C29,FBSCGR!$J$9:$K$159,2,0)) | K29: =IF(J29="","",VLOOKUP(J29,$H$1047974:$I$1047978,2,0))
D30: =IF(C30="","",VLOOKUP(C30,FBSCGR!$J$9:$K$159,2,0)) | K30: =IF(J30="","",VLOOKUP(J30,$H$1047974:$I$1047978,2,0))
D31: =IF(C31="","",VLOOKUP(C31,FBSCGR!$J$9:$K$159,2,0)) | K31: =IF(J31="","",VLOOKUP(J31,$H$1047974:$I$1047978,2,0))
D32: =IF(C32="","",VLOOKUP(C32,FBSCGR!$J$9:$K$159,2,0)) | K32: =IF(J32="","",VLOOKUP(J32,$H$1047974:$I$1047978,2,0))
D33: =IF(C33="","",VLOOKUP(C33,FBSCGR!$J$9:$K$159,2,0)) | K33: =IF(J33="","",VLOOKUP(J33,$H$1047974:$I$1047978,2,0))
D34: =IF(C34="","",VLOOKUP(C34,FBSCGR!$J$9:$K$159,2,0)) | K34: =IF(J34="","",VLOOKUP(J34,$H$1047974:$I$1047978,2,0))
D35: =IF(C35="","",VLOOKUP(C35,FBSCGR!$J$9:$K$159,2,0)) | K35: =IF(J35="","",VLOOKUP(J35,$H$1047974:$I$1047978,2,0))
D36: =IF(C36="","",VLOOKUP(C36,FBSCGR!$J$9:$K$159,2,0)) | K36: =IF(J36="","",VLOOKUP(J36,$H$1047974:$I$1047978,2,0))
D37: =IF(C37="","",VLOOKUP(C37,FBSCGR!$J$9:$K$159,2,0)) | K37: =IF(J37="","",VLOOKUP(J37,$H$1047974:$I$1047978,2,0))
D38: =IF(C38="","",VLOOKUP(C38,FBSCGR!$J$9:$K$159,2,0)) | K38: =IF(J38="","",VLOOKUP(J38,$H$1047974:$I$1047978,2,0))
D39: =IF(C39="","",VLOOKUP(C39,FBSCGR!$J$9:$K$159,2,0)) | K39: =IF(J39="","",VLOOKUP(J39,$H$1047974:$I$1047978,2,0))
D40: =IF(C40="","",VLOOKUP(C40,FBSCGR!$J$9:$K$159,2,0)) | K40: =IF(J40="","",VLOOKUP(J40,$H$1047974:$I$1047978,2,0))
... D43: =IF(C43="","",VLOOKUP(C43,FBSCGR!$J$9:$K$159,2,0)) | K43: =IF(J43="","",VLOOKUP(J43,$H$1047974:$I$1047978,2,0))
E44: VALOR TOTAL SOLICITUD | L44: =SUM(L24:N43) -> 0
C51: (Nombres y Apellidos del funcionario que adelanta el proceso) | I51: (Nombre del funcionario que aprueba el proceso)
C52: Profesional Especializado Grado 19 | I52: Director(a) Administrativa y Financiera - Ordenador del Gasto
C53: Subdirección de Desarrollo y Emprendimiento
C57: Elaboró - Aprobó | G57: Revisó: | H57: Publicación:
C58: Grupo Gestión Financiera (Área de Presupuesto) - Dirección de Gestión Corporativa | G58: Oficina de Planeación | H58: Fecha: 11 de noviembre de 2025
A1047973: SOLICITUD | B1047973: ÁREAS O DEPENDENCIAS | C1047973: CARGOS | E1047973: DIAS | F1047973: MES | G1047973: AÑO | H1047973: RECURSO | I1047973: FUENTE
A1047974: EXPEDICIÓN | B1047974: Gerencia | C1047974: Gerente | E1047974: 1 | F1047974: Enero | G1047974: 2023 | H1047974: 10 | I1047974: Nación
A1047975: ADICIÓN | B1047975: Oficina de Planeación | C1047975: Director(a) Administrativa y Financiera - Ordenador del Gasto | E1047975: 2 | F1047975: Febrero | G1047975: 2024 | H1047975: 11 | I1047975: Nación
A1047976: REDUCCIÓN | B1047976: Oficina de Asuntos Disciplinarios | C1047976: Director(a) Desarrollo y Bienestar Social | E1047976: 3 | F1047976: Marzo | G1047976: 2025 | H1047976: 16 | I1047976: Nación
A1047977: ANULACIÓN | B1047977: Asuntos Jurídicos | C1047977: Asesor(a) Financiera | E1047977: 4 | F1047977: Abril | G1047977: 2026 | H1047977: 20 | I1047977: Propios
B1047978: Control Interno | C1047978: Asesor(a) Jurídica | E1047978: 5 | F1047978: Mayo | G1047978: 2027 | H1047978: 21 | I1047978: Propios
B1047979: Dirección de Gestión Corporativa | C1047979: Asesor(a) Gerencia | E1047979: 6 | F1047979: Junio | G1047979: 2028
B1047980: Gestión Administrativa | C1047980: Subdirector(a) Bienestar y Calidad de Vida | E1047980: 7 | F1047980: Julio | G1047980: 2029
...

Sheet FBSCGR
J3: Identificación: | K3: Nuevo PCP Gasto
J4: Descripción: | K4: Nuevo Plan de Cuentas Presupuestal de Gastos
J5: Función: | K5: GASTO
J6: Uso: | K6: SALDOS
J7: Estado: | K7: Activo
A8: Tipo Presupuesto | B8: Cuenta / Programa | C8: Subcuenta / Subprograma | D8: Objeto / Proyecto | E8: Ordinal / Subproy | F8: SubOrdinal | G8: Item | H8: SubItem 1 | I8: Subitem 2 | J8: IDENTIFICACION | K8: DESCRIPCION | L8: Estado | M8: Entidad que desagregó | N8: Afecta Apropiación | O8: Nivel normativo | P8: Requiere Factura | Q8: Requiere Usos Presupuestales | R8: Usos Presupuestales
A9: A | J9: A | K9: FUNCIONAMIENTO | L9: Activo | N9: - | O9: Ley | P9: - | Q9: - | R9: -
A10: A | B10: 01 | J10: A-01 | K10: GASTOS DE PERSONAL | L10: Activo | N10: - | O10: - | P10: - | Q10: - | R10: -
A11: A | B11: 01 | C11: 01 | J11: A-01-01 | K11: PLANTA DE PERSONAL PERMANENTE | L11: Activo | N11: - | O11: - | P11: - | Q11: - | R11: -
A12: A | B12: 01 | C12: 01 | D12: 01 | J12: A-01-01-01 | K12: SALARIO | L12: Activo | N12: - | O12: Decreto de Liquidación | P12: - | Q12: - | R12: -
A13: A | B13: 01 | C13: 01 | D13: 01 | E13: 001 | J13: A-01-01-01-001 | K13: FACTORES SALARIALES COMUNES | L13: Activo | N13: - | O13: - | P13: - | Q13: - | R13: -
A14: A | B14: 01 | C14: 01 | D14: 01 | E14: 001 | F14: 001 | J14: A-01-01-01-001-001 | K14: SUELDO BÁSICO | L14: Activo | N14: SI | O14: Desagregado | P14: - | Q14: - | R14: SI
A15: A | B15: 01 | C15: 01 | D15: 01 | E15: 001 | F15: 003 | J15: A-01-01-01-001-003 | K15: PRIMA TÉCNICA SALARIAL | L15: Activo | N15: SI | O15: Desagregado | P15: - | Q15: - | R15: SI
A16: A | B16: 01 | C16: 01 | D16: 01 | E16: 001 | F16: 004 | J16: A-01-01-01-001-004 | K16: SUBSIDIO DE ALIMENTACIÓN | L16: Activo | N16: SI | O16: Desagregado | P16: - | Q16: - | R16: SI
A17: A | B17: 01 | C17: 01 | D17: 01 | E17: 001 | F17: 005 | J17: A-01-01-01-001-005 | K17: AUXILIO DE TRANSPORTE | L17: Activo | N17: SI | O17: Desagregado | P17: - | Q17: - | R17: SI
A18: A | B18: 01 | C18: 01 | D18: 01 | E18: 001 | F18: 006 | J18: A-01-01-01-001-006 | K18: PRIMA DE SERVICIO | L18: Activo | N18: SI | O18: Desagregado | P18: - | Q18: - | R18: SI
A19: A | B19: 01 | C19: 01 | D19: 01 | E19: 001 | F19: 007 | J19: A-01-01-01-001-007 | K19: BONIFICACIÓN POR SERVICIOS PRESTADOS | L19: Activo | N19: SI | O19: Desagregado | P19: - | Q19: - | R19: SI
A20: A | B20: 01 | C20: 01 | D20: 01 | E20: 001 | F20: 008 | J20: A-01-01-01-001-008 | K20: HORAS EXTRAS, DOMINICALES, FESTIVOS Y RECARGOS | L20: Activo | N20: SI | O20: Desagregado | P20: - | Q20: - | R20: SI
A21: A | B21: 01 | C21: 01 | D21: 01 | E21: 001 | F21: 009 | J21: A-01-01-01-001-009 | K21: PRIMA DE NAVIDAD | L21: Activo | N21: SI | O21: Desagregado | P21: - | Q21: - | R21: SI
A22: A | B22: 01 | C22: 01 | D22: 01 | E22: 001 | F22: 010 | J22: A-01-01-01-001-010 | K22: PRIMA DE VACACIONES | L22: Activo | N22: SI | O22: Desagregado | P22: - | Q22: - | R22: SI
A23: A | B23: 01 | C23: 01 | D23: 01 | E23: 002 | F23: 025 | J23: A-01-01-01-002-025 | K23: ASIGNACIÓN ADICIONAL A DIRECTIVOS DOCENTES | L23: Activo | N23: SI | O23: Desagregado | P23: - | Q23: - | R23: -
A24: A | B24: 01 | C24: 01 | D24: 02 | J24: A-01-01-02 | K24: CONTRIBUCIONES INHERENTES A LA NÓMINA | L24: Activo | N24: - | O24: Decreto de Liquidación | P24: - | Q24: - | R24: -
A25: A | B25: 01 | C25: 01 | D25: 02 | E25: 001 | J25: A-01-01-02-001 | K25: APORTES A LA SEGURIDAD SOCIAL EN PENSIONES | L25: Activo | N25: SI | O25: Desagregado | P25: - | Q25: - | R25: SI
A26: A | B26: 01 | C26: 01 | D26: 02 | E26: 002 | J26: A-01-01-02-002 | K26: APORTES A LA SEGURIDAD SOCIAL EN SALUD | L26: Activo | N26: SI | O26: Desagregado | P26: - | Q26: - | R26: SI
A27: A | B27: 01 | C27: 01 | D27: 02 | E27: 003 | J27: A-01-01-02-003 | K27: AUXILIO DE CESANTÍAS | L27: Activo | N27: SI | O27: Desagregado | P27: - | Q27: - | R27: SI
A28: A | B28: 01 | C28: 01 | D28: 02 | E28: 004 | J28: A-01-01-02-004 | K28: APORTES A CAJAS DE COMPENSACIÓN FAMILIAR | L28: Activo | N28: SI | O28: Desagregado | P28: - | Q28: - | R28: SI
A29: A | B29: 01 | C29: 01 | D29: 02 | E29: 005 | J29: A-01-01-02-005 | K29: APORTES GENERALES AL SISTEMA DE RIESGOS LABORALES | L29: Activo | N29: SI | O29: Desagregado | P29: - | Q29: - | R29: SI
A30: A | B30: 01 | C30: 01 | D30: 02 | E30: 006 | J30: A-01-01-02-006 | K30: APORTES AL ICBF | L30: Activo | N30: SI | O30: Desagregado | P30: - | Q30: - | R30: SI
A31: A | B31: 01 | C31: 01 | D31: 02 | E31: 007 | J31: A-01-01-02-007 | K31: APORTES AL SENA | L31: Activo | N31: SI | O31: Desagregado | P31: - | Q31: - | R31: SI
A32: A | B32: 01 | C32: 01 | D32: 03 | J32: A-01-01-03 | K32: REMUNERACIONES NO CONSTITUTIVAS DE FACTOR SALARIAL | L32: Activo | N32: - | O32: Decreto de Liquidación | P32: - | Q32: - | R32: -
A33: A | B33: 01 | C33: 01 | D33: 03 | E33: 001 | J33: A-01-01-03-001 | K33: PRESTACIONES SOCIALES SEGÚN DEFINICIÓN LEGAL | L33: Activo | N33: - | O33: - | P33: - | Q33: - | R33: -
A34: A | B34: 01 | C34: 01 | D34: 03 | E34: 001 | F34: 001 | J34: A-01-01-03-001-001 | K34: VACACIONES | L34: Activo | N34: SI | O34: Desagregado | P34: - | Q34: - | R34: SI
A35: A | B35: 01 | C35: 01 | D35: 03 | E35: 001 | F35: 002 | J35: A-01-01-03-001-002 | K35: INDEMNIZACIÓN POR VACACIONES | L35: Activo | N35: SI | O35: Desagregado | P35: - | Q35: - | R35: SI
A36: A | B36: 01 | C36: 01 | D36: 03 | E36: 001 | F36: 003 | J36: A-01-01-03-001-003 | K36: BONIFICACIÓN ESPECIAL DE RECREACIÓN | L36: Activo | N36: SI | O36: Desagregado | P36: - | Q36: - | R36: SI
A37: A | B37: 01 | C37: 01 | D37: 03 | E37: 002 | J37: A-01-01-03-002 | K37: PRIMA TÉCNICA NO SALARIAL | L37: Activo | N37: SI | O37: Desagregado | P37: - | Q37: - | R37: SI
A38: A | B38: 01 | C38: 01 | D38: 03 | E38: 016 | J38: A-01-01-03-016 | K38: PRIMA DE COORDINACIÓN | L38: Activo | N38: SI | O38: Desagregado | P38: - | Q38: - | R38: SI
A39: A | B39: 01 | C39: 01 | D39: 03 | E39: 017 | J39: A-01-01-03-017 | K39: PRIMA DE ALTA GESTIÓN | L39: Activo | N39: SI | O39: Desagregado | P39: - | Q39: - | R39: SI
A40: A | B40: 01 | C40: 01 | D40: 03 | E40: 030 | J40: A-01-01-03-030 | K40: BONIFICACIÓN DE DIRECCIÓN | L40: Activo | N40: SI | O40: Desagregado | P40: - | Q40: - | R40: SI
A41: A | B41: 01 | C41: 01 | D41: 03 | E41: 038 | J41: A-01-01-03-038 | K41: QUINQUENIOS | L41: Activo | N41: - | O41: - | P41: - | Q41: - | R41: -
A42: A | B42: 01 | C42: 01 | D42: 03 | E42: 038 | F42: 002 | J42: A-01-01-03-038-002 | K42: BENEFICIOS A LOS EMPLEADOS A LARGO PLAZO | L42: Activo | N42: SI | O42: Desagregado | P42: - | Q42: - | R42: SI
...
