Workbook
Name OLE_LINK1: 'SOL RPC DEF'!#REF!

Sheet SOL RPC DEF
E2: Proceso Gestión Financiera Formato Solicitud de Registro Presupuestal de Compromiso | G2: Código: | H2: FA-3032-02
G3: Versión: | H3: 1
C8: FECHA
C10: ACEPTACIÓN DE OFERTA No.
C12: RAZÓN SOCIAL Y/O NOMBRE DEL TERCERO:
C15: IDENTIFICACIÓN DEL TERCERO NIT Y/O. No C.C
C18: TIPO SOLICITUD
C20: No. CDP | H20: =IF($E$18="EXPEDICIÓN CON VIGENCIA FUTURA","No. VIGENCIA FUTURA"," ")
C22: =IF(OR($E$18="ADICIÓN",$E$18="REDUCCIÓN",$E$18="ANULACIÓN"),"RPC No."," ")
C24: =IF($E$18="ADICIÓN","Existe modificación en documentos y/o datos reportados, requeridos para RPC del contrato origen?"," ")
C25: =IF($J$24="SI","Marque con un -SI- en la columna -ADJUNTO- de la lista de chequeo:"," ")
C28: LISTA DE CHEQUEO
C29: DOCUMENTOS | G29: ADJUNTO | I29: CUMPLE
C30: 1. Acto Administrativo, Resolución, Acta, Contrato, Convenio, Orden de Compra, Factura o Documento Equivalente / Adición (Otro si), Formato para Desembolso de Crédito, Macros (Archivos Planos), Registro en SECOP II.
C31: 2. Registro Único Tributario - RUT Actualizado
C32: 3. Certificación Bancaria Vigente (expedición no mayor a 30 días)
C34: IMPUTACIÓN PRESUPUESTAL
C36: Código Rubro Presupuestal | D36: Descripción | G36: Rec | H36: Fuente | I36: Valor
D37: =IF(C37="","",VLOOKUP(C37,FBSCGR!$J$9:$K$154,2,0)) | H37: =IF(G37="","",VLOOKUP(G37,$I$1048197:$J$1048201,2,0))
D38: =IF(C38="","",VLOOKUP(C38,FBSCGR!$J$9:$K$154,2,0)) | H38: =IF(G38="","",VLOOKUP(G38,$I$1048197:$J$1048201,2,0))
D39: =IF(C39="","",VLOOKUP(C39,FBSCGR!$J$9:$K$154,2,0)) | H39: =IF(G39="","",VLOOKUP(G39,$I$1048197:$J$1048201,2,0))
D40: =IF(C40="","",VLOOKUP(C40,FBSCGR!$J$9:$K$154,2,0)) | H40: =IF(G40="","",VLOOKUP(G40,$I$1048197:$J$1048201,2,0))
D41: =IF(C41="","",VLOOKUP(C41,FBSCGR!$J$9:$K$154,2,0)) | H41: =IF(G41="","",VLOOKUP(G41,$I$1048197:$J$1048201,2,0))
D42: =IF(C42="","",VLOOKUP(C42,FBSCGR!$J$9:$K$154,2,0)) | H42: =IF(G42="","",VLOOKUP(G42,$I$1048197:$J$1048201,2,0))
D43: =IF(C43="","",VLOOKUP(C43,FBSCGR!$J$9:$K$154,2,0)) | H43: =IF(G43="","",VLOOKUP(G43,$I$1048197:$J$1048201,2,0))
D44: =IF(C44="","",VLOOKUP(C44,FBSCGR!$J$9:$K$154,2,0)) | H44: =IF(G44="","",VLOOKUP(G44,$I$1048197:$J$1048201,2,0))
D45: =IF(C45="","",VLOOKUP(C45,FBSCGR!$J$9:$K$154,2,0)) | H45: =IF(G45="","",VLOOKUP(G45,$I$1048197:$J$1048201,2,0))
D46: =IF(C46="","",VLOOKUP(C46,FBSCGR!$J$9:$K$154,2,0)) | H46: =IF(G46="","",VLOOKUP(G46,$I$1048197:$J$1048201,2,0))
E48: VALOR TOTAL COMPROMISO | I48: =SUM(I37:J46) -> 0
C50: OBJETO:
D54: (Máximo 250 caracteres)
C59: Nombre | F59: Nombre
C60: Grupo de Contratación | F60: Cargo - Ordenador del Gasto
B64: Elaboró - Aprobó: | F64: Revisó: | I64: Publicación:
B65: Grupo de Gestión Financiera (Presupuesto) – Dirección de Gestión Corporativa | F65: Oficina de Planeación | I65: Fecha: 18 de diciembre de 2024
C1048196: LISTA1 | D1048196: LISTA2 | E1048196: LISTA3 | F1048196: LISTA4 | I1048196: RECURSO | J1048196: FUENTE
C1048197: CONTRATO No. | D1048197: SI | E1048197: EXPEDICIÓN | F1048197: Grupo de Contratación | I1048197: 10 | J1048197: Nación
C1048198: RESOLUCIÓN No. | D1048198: NO | E1048198: EXPEDICIÓN CON VIGENCIA FUTURA | F1048198: Grupo de Gestión de Cesantías | I1048198: 11 | J1048198: Nación
C1048199: ACTA No. | E1048199: ADICIÓN | F1048199: Grupo de Gestión de Apoyo Financiero, Crédito y Cartera | I1048199: 16 | J1048199: Nación
C1048200: FACTURA No. | E1048200: REDUCCIÓN | F1048200: Grupo de Gestión Administrativa | I1048200: 20 | J1048200: Propios
...

Sheet FBSCGR
J3: Identificación: | K3: Nuevo PCP Gasto
J4: Descripción: | K4: Nuevo Plan de Cuentas Presupuestal de Gastos
J5: Función: | K5: GASTO
J6: Uso: | K6: SALDOS
J7: Estado: | K7: Activo
A8: Tipo Presupuesto | B8: Cuenta / Programa | C8: Subcuenta / Subprograma | D8: Objeto / Proyecto | E8: Ordinal / Subproy | F8: SubOrdinal | G8: Item | H8: SubItem 1 | I8: Subitem 2 | J8: IDENTIFICACION | K8: DESCRIPCION | L8: Estado | M8: Entidad que desagregó | N8: Afecta Apropiación | O8: Nivel normativo | P8: Requiere Factura | Q8: Requiere Usos Presupuestales | R8: Usos Presupuestales
A9: A | J9: A | K9: FUNCIONAMIENTO | L9: Activo | N9: - | O9: Ley | P9: - | Q9: - | R9: -
A10: A | B10: 01 | J10: A-01 | K10: GASTOS DE PERSONAL | L10: Activo | N10: - | O10: - | P10: - | Q10: - | R10: -
A11: A | B11: 01 | C11: 01 | J11: A-01-01 | K11: PLANTA DE PERSONAL PERMANENTE | L11: Activo | N11: - | O11: - | P11: - | Q11: - | R11: -
A12: A | B12: 01 | C12: 01 | D12: 01 | J12: A-01-01-01 | K12: SALARIO | L12: Activo | N12: - | O12: Decreto de Liquidación | P12: - | Q12: - | R12: -
A13: A | B13: 01 | C13: 01 | D13: 01 | E13: 001 | J13: A-01-01-01-001 | K13: FACTORES SALARIALES COMUNES | L13: Activo | N13: - | O13: - | P13: - | Q13: - | R13: -
A14: A | B14: 01 | C14: 01 | D14: 01 | E14: 001 | F14: 001 | J14: A-01-01-01-001-001 | K14: SUELDO BÁSICO | L14: Activo | N14: SI | O14: Desagregado | P14: - | Q14: - | R14: SI
A15: A | B15: 01 | C15: 01 | D15: 01 | E15: 001 | F15: 003 | J15: A-01-01-01-001-003 | K15: PRIMA TÉCNICA SALARIAL | L15: Activo | N15: SI | O15: Desagregado | P15: - | Q15: - | R15: SI
A16: A | B16: 01 | C16: 01 | D16: 01 | E16: 001 | F16: 004 | J16: A-01-01-01-001-004 | K16: SUBSIDIO DE ALIMENTACIÓN | L16: Activo | N16: SI | O16: Desagregado | P16: - | Q16: - | R16: SI
A17: A | B17: 01 | C17: 01 | D17: 01 | E17: 001 | F17: 005 | J17: A-01-01-01-001-005 | K17: AUXILIO DE TRANSPORTE | L17: Activo | N17: SI | O17: Desagregado | P17: - | Q17: - | R17: SI
A18: A | B18: 01 | C18: 01 | D18: 01 | E18: 001 | F18: 006 | J18: A-01-01-01-001-006 | K18: PRIMA DE SERVICIO | L18: Activo | N18: SI | O18: Desagregado | P18: - | Q18: - | R18: SI
A19: A | B19: 01 | C19: 01 | D19: 01 | E19: 001 | F19: 007 | J19: A-01-01-01-001-007 | K19: BONIFICACIÓN POR SERVICIOS PRESTADOS | L19: Activo | N19: SI | O19: Desagregado | P19: - | Q19: - | R19: SI
A20: A | B20: 01 | C20: 01 | D20: 01 | E20: 001 | F20: 008 | J20: A-01-01-01-001-008 | K20: HORAS EXTRAS, DOMINICALES, FESTIVOS Y RECARGOS | L20: Activo | N20: SI | O20: Desagregado | P20: - | Q20: - | R20: SI
A21: A | B21: 01 | C21: 01 | D21: 01 | E21: 001 | F21: 009 | J21: A-01-01-01-001-009 | K21: PRIMA DE NAVIDAD | L21: Activo | N21: SI | O21: Desagregado | P21: - | Q21: - | R21: SI
A22: A | B22: 01 | C22: 01 | D22: 01 | E22: 001 | F22: 010 | J22: A-01-01-01-001-010 | K22: PRIMA DE VACACIONES | L22: Activo | N22: SI | O22: Desagregado | P22: - | Q22: - | R22: SI
A23: A | B23: 01 | C23: 01 | D23: 01 | E23: 002 | F23: 025 | J23: A-01-01-01-002-025 | K23: ASIGNACIÓN ADICIONAL A DIRECTIVOS DOCENTES | L23: Activo | N23: SI | O23: Desagregado | P23: - | Q23: - | R23: -
A24: A | B24: 01 | C24: 01 | D24: 02 | J24: A-01-01-02 | K24: CONTRIBUCIONES INHERENTES A LA NÓMINA | L24: Activo | N24: - | O24: Decreto de Liquidación | P24: - | Q24: - | R24: -
A25: A | B25: 01 | C25: 01 | D25: 02 | E25: 001 | J25: A-01-01-02-001 | K25: APORTES A LA SEGURIDAD SOCIAL EN PENSIONES | L25: Activo | N25: SI | O25: Desagregado | P25: - | Q25: - | R25: SI
A26: A | B26: 01 | C26: 01 | D26: 02 | E26: 002 | J26: A-01-01-02-002 | K26: APORTES A LA SEGURIDAD SOCIAL EN SALUD | L26: Activo | N26: SI | O26: Desagregado | P26: - | Q26: - | R26: SI
A27: A | B27: 01 | C27: 01 | D27: 02 | E27: 003 | J27: A-01-01-02-003 | K27: AUXILIO DE CESANTÍAS | L27: Activo | N27: SI | O27: Desagregado | P27: - | Q27: - | R27: SI
A28: A | B28: 01 | C28: 01 | D28: 02 | E28: 004 | J28: A-01-01-02-004 | K28: APORTES A CAJAS DE COMPENSACIÓN FAMILIAR | L28: Activo | N28: SI | O28: Desagregado | P28: - | Q28: - | R28: SI
A29: A | B29: 01 | C29: 01 | D29: 02 | E29: 005 | J29: A-01-01-02-005 | K29: APORTES GENERALES AL SISTEMA DE RIESGOS LABORALES | L29: Activo | N29: SI | O29: Desagregado | P29: - | Q29: - | R29: SI
A30: A | B30: 01 | C30: 01 | D30: 02 | E30: 006 | J30: A-01-01-02-006 | K30: APORTES AL ICBF | L30: Activo | N30: SI | O30: Desagregado | P30: - | Q30: - | R30: SI
A31: A | B31: 01 | C31: 01 | D31: 02 | E31: 007 | J31: A-01-01-02-007 | K31: APORTES AL SENA | L31: Activo | N31: SI | O31: Desagregado | P31: - | Q31: - | R31: SI
A32: A | B32: 01 | C32: 01 | D32: 03 | J32: A-01-01-03 | K32: REMUNERACIONES NO CONSTITUTIVAS DE FACTOR SALARIAL | L32: Activo | N32: - | O32: Decreto de Liquidación | P32: - | Q32: - | R32: -
A33: A | B33: 01 | C33: 01 | D33: 03 | E33: 001 | J33: A-01-01-03-001 | K33: PRESTACIONES SOCIALES SEGÚN DEFINICIÓN LEGAL | L33: Activo | N33: - | O33: - | P33: - | Q33: - | R33: -
A34: A | B34: 01 | C34: 01 | D34: 03 | E34: 001 | F34: 001 | J34: A-01-01-03-001-001 | K34: VACACIONES | L34: Activo | N34: SI | O34: Desagregado | P34: - | Q34: - | R34: SI
A35: A | B35: 01 | C35: 01 | D35: 03 | E35: 001 | F35: 002 | J35: A-01-01-03-001-002 | K35: INDEMNIZACIÓN POR VACACIONES | L35: Activo | N35: SI | O35: Desagregado | P35: - | Q35: - | R35: SI
A36: A | B36: 01 | C36: 01 | D36: 03 | E36: 001 | F36: 003 | J36: A-01-01-03-001-003 | K36: BONIFICACIÓN ESPECIAL DE RECREACIÓN | L36: Activo | N36: SI | O36: Desagregado | P36: - | Q36: - | R36: SI
A37: A | B37: 01 | C37: 01 | D37: 03 | E37: 002 | J37: A-01-01-03-002 | K37: PRIMA TÉCNICA NO SALARIAL | L37: Activo | N37: SI | O37: Desagregado | P37: - | Q37: - | R37: SI
A38: A | B38: 01 | C38: 01 | D38: 03 | E38: 016 | J38: A-01-01-03-016 | K38: PRIMA DE COORDINACIÓN | L38: Activo | N38: SI | O38: Desagregado | P38: - | Q38: - | R38: SI
A39: A | B39: 01 | C39: 01 | D39: 03 | E39: 017 | J39: A-01-01-03-017 | K39: PRIMA DE ALTA GESTIÓN | L39: Activo | N39: SI | O39: Desagregado | P39: - | Q39: - | R39: SI
A40: A | B40: 01 | C40: 01 | D40: 03 | E40: 030 | J40: A-01-01-03-030 | K40: BONIFICACIÓN DE DIRECCIÓN | L40: Activo | N40: SI | O40: Desagregado | P40: - | Q40: - | R40: SI
A41: A | B41: 01 | C41: 01 | D41: 03 | E41: 038 | J41: A-01-01-03-038 | K41: QUINQUENIOS | L41: Activo | N41: - | O41: - | P41: - | Q41: - | R41: -
A42: A | B42: 01 | C42: 01 | D42: 03 | E42: 038 | F42: 002 | J42: A-01-01-03-038-002 | K42: BENEFICIOS A LOS EMPLEADOS A LARGO PLAZO | L42: Activo | N42: SI | O42: Desagregado | P42: - | Q42: - | R42: SI
...
