Workbook
Name RESPUESTA: Hoja2!$A$1:$A$3

Sheet Marco contable
C1: Proceso Control y Evaluación de la Gestión Formato Evaluación de Control Interno Contable | E1: Código: | F1: F-S-1010-78
E3: Versión: | F3: 3
B6: MARCO DE REFERENCIA DEL PROCESO CONTABLE
B7: ELEMENTOS DEL MARCO NORMATIVO
B8: POLÍTICAS CONTABLES | C8: TIPO | D8: CALIFICACIÓN | E8: TOTAL | F8: OBSERVACIONES
A9: 1 | B9: ¿La entidad ha definido las políticas contables que debe aplicar para el reconocimiento, medición, revelación y presentación de los hechos económicos de acuerdo con el marco normativo que le corresponde aplicar? | C9: Ex | E9: =IF(D9<>"",IF(C9="Ex",VLOOKUP(D9,Hoja2!$A$7:$B$9,2,FALSE),IF(C9="ef",VLOOKUP(D9,Hoja2!$D$7:$E$9,2,FALSE),"")),"")
A10: 1.1 | B10: ¿Se socializan las políticas con el personal involucrado en el proceso ? | C10: Ef | E10: =IF(D10<>"",IF(C10="Ex",VLOOKUP(D10,Hoja2!$A$7:$B$9,2,FALSE),IF(C10="ef",VLOOKUP(D10,Hoja2!$D$7:$E$9,2,FALSE),"")),"")
A11: 1.2 | B11: ¿Las políticas establecidas son aplicadas en el desarrollo del proceso contable? | C11: Ef | E11: =IF(D11<>"",IF(C11="Ex",VLOOKUP(D11,Hoja2!$A$7:$B$9,2,FALSE),IF(C11="ef",VLOOKUP(D11,Hoja2!$D$7:$E$9,2,FALSE),"")),"")
A12: 1.3 | B12: ¿Las políticas contables responden a la naturaleza y a la actividad de la entidad? | C12: Ef | E12: =IF(D12<>"",IF(C12="Ex",VLOOKUP(D12,Hoja2!$A$7:$B$9,2,FALSE),IF(C12="ef",VLOOKUP(D12,Hoja2!$D$7:$E$9,2,FALSE),"")),"")
A13: 1.4 | B13: ¿Las políticas contables propenden por la representación fiel de la información financiera? | C13: Ef | E13: =IF(D13<>"",IF(C13="Ex",VLOOKUP(D13,Hoja2!$A$7:$B$9,2,FALSE),IF(C13="ef",VLOOKUP(D13,Hoja2!$D$7:$E$9,2,FALSE),"")),"")
A14: 2 | B14: ¿Se establecen instrumentos (planes, procedimientos, manuales, reglas de negocio, guías, etc) para el seguimiento al cumplimiento de los planes de mejoramiento derivados de los hallazgos de auditoría interna o externa? | C14: Ex | E14: =IF(D14<>"",IF(C14="Ex",VLOOKUP(D14,Hoja2!$A$7:$B$9,2,FALSE),IF(C14="ef",VLOOKUP(D14,Hoja2!$D$7:$E$9,2,FALSE),"")),"")
A15: 2.1 | B15: ¿Se socializan estos instrumentos de seguimiento con los responsables? | C15: Ef | E15: =IF(D15<>"",IF(C15="Ex",VLOOKUP(D15,Hoja2!$A$7:$B$9,2,FALSE),IF(C15="ef",VLOOKUP(D15,Hoja2!$D$7:$E$9,2,FALSE),"")),"")
A16: 2.2 | B16: ¿Se hace seguimiento o monitoreo al cumplimiento de los planes de mejoramiento? | C16: Ef | E16: =IF(D16<>"",IF(C16="Ex",VLOOKUP(D16,Hoja2!$A$7:$B$9,2,FALSE),IF(C16="ef",VLOOKUP(D16,Hoja2!$D$7:$E$9,2,FALSE),"")),"")
A17: 3 | B17: ¿La entidad cuenta con una política o instrumento (procedimiento, manual, regla de negocio, guía, instructivo, etc.) tendiente a facilitar el flujo de información relativo a los hechos económicos originados en cualquier dependencia? | C17: Ex | E17: =IF(D17<>"",IF(C17="Ex",VLOOKUP(D17,Hoja2!$A$7:$B$9,2,FALSE),IF(C17="ef",VLOOKUP(D17,Hoja2!$D$7:$E$9,2,FALSE),"")),"")
A18: 3.1 | B18: ¿Se socializan estas herramientas con el personal involucrado en el proceso? | C18: Ef | E18: =IF(D18<>"",IF(C18="Ex",VLOOKUP(D18,Hoja2!$A$7:$B$9,2,FALSE),IF(C18="ef",VLOOKUP(D18,Hoja2!$D$7:$E$9,2,FALSE),"")),"")
A19: 3.2 | B19: Se tienen identificados los documentos idoneos mediante los cuales se informa al área contable? | C19: Ef | E19: =IF(D19<>"",IF(C19="Ex",VLOOKUP(D19,Hoja2!$A$7:$B$9,2,FALSE),IF(C19="ef",VLOOKUP(D19,Hoja2!$D$7:$E$9,2,FALSE),"")),"")
A20: 3.3 | B20: ¿Existen procedimientos internos documentados que faciliten la aplicación de la política? | C20: Ef | E20: =IF(D20<>"",IF(C20="Ex",VLOOKUP(D20,Hoja2!$A$7:$B$9,2,FALSE),IF(C20="ef",VLOOKUP(D20,Hoja2!$D$7:$E$9,2,FALSE),"")),"")
A21: 4 | B21: ¿Se ha implementado una política o instrumento (directriz, procedimiento, guía o lineamiento) sobre la identificación de los bienes físicos en forma individualizada dentro del documentados que faciliten la aplicación de la política? | C21: Ex | E21: =IF(D21<>"",IF(C21="Ex",VLOOKUP(D21,Hoja2!$A$7:$B$9,2,FALSE),IF(C21="ef",VLOOKUP(D21,Hoja2!$D$7:$E$9,2,FALSE),"")),"")
A22: 4.1 | B22: ¿Se ha socializado este instrumento con el personal involucrado en el proceso? | C22: Ef | E22: =IF(D22<>"",IF(C22="Ex",VLOOKUP(D22,Hoja2!$A$7:$B$9,2,FALSE),IF(C22="ef",VLOOKUP(D22,Hoja2!$D$7:$E$9,2,FALSE),"")),"")
A23: 4.2 | B23: ¿Se verifica la individualización de los bienes físicos? | C23: Ef | E23: =IF(D23<>"",IF(C23="Ex",VLOOKUP(D23,Hoja2!$A$7:$B$9,2,FALSE),IF(C23="ef",VLOOKUP(D23,Hoja2!$D$7:$E$9,2,FALSE),"")),"")
A24: 5 | B24: ¿Se cuenta con una directriz, guía o procedimiento para realizar las conciliaciones de las partidas más relevantes, a fin de lograr una adecuada identificación y medición? | C24: Ex | E24: =IF(D24<>"",IF(C24="Ex",VLOOKUP(D24,Hoja2!$A$7:$B$9,2,FALSE),IF(C24="ef",VLOOKUP(D24,Hoja2!$D$7:$E$9,2,FALSE),"")),"")
A25: 5.1 | B25: ¿Se socializan estas directrices, guías o procedimientos con el personal involucrado en el proceso? | C25: Ef | E25: =IF(D25<>"",IF(C25="Ex",VLOOKUP(D25,Hoja2!$A$7:$B$9,2,FALSE),IF(C25="ef",VLOOKUP(D25,Hoja2!$D$7:$E$9,2,FALSE),"")),"")
A26: 5.2 | B26: ¿Se verifica la aplicación de estas directrices, guías o procedimientos? | C26: Ef | E26: =IF(D26<>"",IF(C26="Ex",VLOOKUP(D26,Hoja2!$A$7:$B$9,2,FALSE),IF(C26="ef",VLOOKUP(D26,Hoja2!$D$7:$E$9,2,FALSE),"")),"")
A27: 6 | B27: ¿Se cuenta con una directriz, guía, lineamiento, procedimiento o instrucción en que se defina la segregación de funciones (autorizaciones, registros y manejos) dentro de los procesos contables? | C27: Ex | E27: =IF(D27<>"",IF(C27="Ex",VLOOKUP(D27,Hoja2!$A$7:$B$9,2,FALSE),IF(C27="ef",VLOOKUP(D27,Hoja2!$D$7:$E$9,2,FALSE),"")),"")
A28: 6.1 | B28: ¿Se socializa esta directriz, guía, lineamiento, procedimiento o instrucción con el personal involucrado en el proceso? | C28: Ef | E28: =IF(D28<>"",IF(C28="Ex",VLOOKUP(D28,Hoja2!$A$7:$B$9,2,FALSE),IF(C28="ef",VLOOKUP(D28,Hoja2!$D$7:$E$9,2,FALSE),"")),"")
A29: 6.2 | B29: ¿Se verifica el cumplimiento de esta directriz, guía, lineamiento, procedimiento o instrucción? | C29: Ef | E29: =IF(D29<>"",IF(C29="Ex",VLOOKUP(D29,Hoja2!$A$7:$B$9,2,FALSE),IF(C29="ef",VLOOKUP(D29,Hoja2!$D$7:$E$9,2,FALSE),"")),"")
A30: 7 | B30: ¿Se cuenta con una directriz, procedimiento, guía, lineamiento o instrucción para la presentación oportuna de la información financiera? | C30: Ex | E30: =IF(D30<>"",IF(C30="Ex",VLOOKUP(D30,Hoja2!$A$7:$B$9,2,FALSE),IF(C30="ef",VLOOKUP(D30,Hoja2!$D$7:$E$9,2,FALSE),"")),"")
A31: 7.1 | B31: ¿Se socializa esta directriz, guía, lineamiento, procedimiento o instrucción con el personal involucrado en el proceso? | C31: Ef | E31: =IF(D31<>"",IF(C31="Ex",VLOOKUP(D31,Hoja2!$A$7:$B$9,2,FALSE),IF(C31="ef",VLOOKUP(D31,Hoja2!$D$7:$E$9,2,FALSE),"")),"")
A32: 7.2 | B32: ¿Se cumple con la directriz, guía, lineamiento, procedimiento o instrucción? | C32: Ef | E32: =IF(D32<>"",IF(C32="Ex",VLOOKUP(D32,Hoja2!$A$7:$B$9,2,FALSE),IF(C32="ef",VLOOKUP(D32,Hoja2!$D$7:$E$9,2,FALSE),"")),"")
A33: 8 | B33: ¿Existe un procedimiento para llevar a cabo, en forma adecuada, el cierre integral de la información producida en las áreas o dependencias que generan hechos económicos? | C33: Ex | E33: =IF(D33<>"",IF(C33="Ex",VLOOKUP(D33,Hoja2!$A$7:$B$9,2,FALSE),IF(C33="ef",VLOOKUP(D33,Hoja2!$D$7:$E$9,2,FALSE),"")),"")
A34: 8.1 | B34: ¿Se socializa este procedimiento con el personal involucrado en el proceso? | C34: Ef | E34: =IF(D34<>"",IF(C34="Ex",VLOOKUP(D34,Hoja2!$A$7:$B$9,2,FALSE),IF(C34="ef",VLOOKUP(D34,Hoja2!$D$7:$E$9,2,FALSE),"")),"")
A35: 8.2 | B35: ¿Se cumple con el procedimiento? | C35: Ef | E35: =IF(D35<>"",IF(C35="Ex",VLOOKUP(D35,Hoja2!$A$7:$B$9,2,FALSE),IF(C35="ef",VLOOKUP(D35,Hoja2!$D$7:$E$9,2,FALSE),"")),"")
A36: 9 | B36: ¿La entidad tiene implementadas directrices, procedimientos, guías o lineamientos para realizar periódicamente inventarios y cruces de información, que le permitan verificar la existencia de activos y pasivos? | C36: Ex | E36: =IF(D36<>"",IF(C36="Ex",VLOOKUP(D36,Hoja2!$A$7:$B$9,2,FALSE),IF(C36="ef",VLOOKUP(D36,Hoja2!$D$7:$E$9,2,FALSE),"")),"")
A37: 9.1 | B37: ¿Se socializan las directrices, procedimientos, guías o lineamientos con el personal involucrado en el proceso? | C37: Ef | E37: =IF(D37<>"",IF(C37="Ex",VLOOKUP(D37,Hoja2!$A$7:$B$9,2,FALSE),IF(C37="ef",VLOOKUP(D37,Hoja2!$D$7:$E$9,2,FALSE),"")),"")
A38: 9.2 | B38: ¿Se cumple con estas directrices, procedimientos, guías o lineamientos? | C38: Ef | E38: =IF(D38<>"",IF(C38="Ex",VLOOKUP(D38,Hoja2!$A$7:$B$9,2,FALSE),IF(C38="ef",VLOOKUP(D38,Hoja2!$D$7:$E$9,2,FALSE),"")),"")
A39: 10 | B39: ¿Se tienen establecidas directrices, procedimientos, instrucciones, o lineamientos sobre análisis, depuración y seguimiento de cuentas para el mejoramiento y sostenibilidad de la calidad de la información? | C39: Ex | E39: =IF(D39<>"",IF(C39="Ex",VLOOKUP(D39,Hoja2!$A$7:$B$9,2,FALSE),IF(C39="ef",VLOOKUP(D39,Hoja2!$D$7:$E$9,2,FALSE),"")),"")
A40: 10.1 | B40: ¿Se socializan estas directrices, procedimientos, instrucciones, o lineamientos con el personal involucrado en el proceso? | C40: Ef | E40: =IF(D40<>"",IF(C40="Ex",VLOOKUP(D40,Hoja2!$A$7:$B$9,2,FALSE),IF(C40="ef",VLOOKUP(D40,Hoja2!$D$7:$E$9,2,FALSE),"")),"")
A41: 10.2 | B41: ¿Existen mecanismos para verificar el cumplimiento de estas directrices, procedimientos, instrucciones, lineamientos? | C41: Ef | E41: =IF(D41<>"",IF(C41="Ex",VLOOKUP(D41,Hoja2!$A$7:$B$9,2,FALSE),IF(C41="ef",VLOOKUP(D41,Hoja2!$D$7:$E$9,2,FALSE),"")),"")
A42: 10.3 | B42: ¿El análisis, la depuracion y el seguimiento de cuentas se realiza permanentemente o por lo menos periódicamente? | C42: Ef | E42: =IF(D42<>"",IF(C42="Ex",VLOOKUP(D42,Hoja2!$A$7:$B$9,2,FALSE),IF(C42="ef",VLOOKUP(D42,Hoja2!$D$7:$E$9,2,FALSE),"")),"")
B43: ETAPAS DEL PROCESO CONTABLE
...

Sheet Resultado
A1: RESULTADOS DE LA EVALUACIÓN DEL CONTROL INTERNO CONTABLE
A2: NÚMERO | B2: EVALUACIÓN DEL CONTROL INTERNO CONTABLE | C2: SUBETAPAS | D2: PUNTAJE OBTENIDO
A3: 1 | B3: ELEMENTOS DEL MARCO NORMATIVO | C3: POLÍTICAS CONTABLES | D3: =IF(SUM('Marco contable'!E9:E42)>0,SUM('Marco contable'!E9:E42),"")
A4: 2 | B4: RECONOCIMIENTO | C4: IDENTIFICACIÓN | D4: =IF(SUM('Marco contable'!E46:E53)>0,SUM('Marco contable'!E46:E53),"")
C5: CLASIFICACIÓN | D5: =IF(SUM('Marco contable'!E55:E58)>0,SUM('Marco contable'!E55:E58),"")
C6: REGISTRO | D6: =IF(SUM('Marco contable'!E60:E74)>0,SUM('Marco contable'!E60:E74),"")
C7: MEDICIÓN INICIAL | D7: =IF(SUM('Marco contable'!E76:E78)>0,SUM('Marco contable'!E76:E78),"")
A8: 3 | B8: MEDICIÓN POSTERIOR | C8: MEDICIÓN POSTERIOR | D8: =IF(SUM('Marco contable'!E80:E89)>0,SUM('Marco contable'!E80:E89),"")
A9: 4 | B9: REVELACIÓN | C9: PRESENTACIÓN DE ESTADOS FINANCIEROS | D9: =IF(SUM('Marco contable'!E92:E107)>0,SUM('Marco contable'!E92:E107),"")
A10: 5 | B10: RENDICIÓN DE CUENTAS A PARTES INTERESADAS | C10: RENDICIÓN DE CUENTAS A PARTES INTERESADAS | D10: =IF(SUM('Marco contable'!E110:E112)>0,SUM('Marco contable'!E110:E112),"")
A11: 6 | B11: GESTIÓN DEL RIESGO CONTABLE | C11: GESTIÓN DEL RIESGO CONTABLE | D11: =IF(SUM('Marco contable'!E115:E126)>0,SUM('Marco contable'!E115:E126),"")
B14: MÁXIMO A OBTENER | C14: 5
B15: TOTAL PREGUNTAS | C15: 32
B16: PUNTAJE OBTENIDO | C16: ='Marco contable'!C131 -> 0
B17: Porcentaje obtenido | C17: ='Marco contable'!C132 -> 0
B18: Calificación | C18: =IF(C17<3,"DEFICIENTE",IF(AND(C17>=3,C17<4),"ADECUADO",IF(C17>=4,"EFICIENTE"))) -> DEFICIENTE
B21: RANGOS DE CALIFICACIÓN DE LA EVALUACIÓN DEL CONTROL INTERNO CONTABLE
B22: RANGO DE CALIFICACION | C22: CALIFICACIÓN CUALITATIVA
B23: 1.0 < CALIFICACION <3.0 | C23: DEFICIENTE
B24: 3.0 < CALIFICACION <4.0 | C24: ADECUADO
B25: 4.0 < CALIFICACION <5.0 | C25: EFICIENTE

Sheet Hoja2
A1: SI
A2: PARCIALMENTE
A3: NO
A6: EXISTENCIA | D6: EFECTIVIDAD
A7: SI | B7: 0.3 | D7: SI | E7: 0.7
A8: PARCIALMENTE | B8: 0.18 | D8: PARCIALMENTE | E8: 0.42
A9: NO | B9: 0.06 | D9: NO | E9: 0.14

Sheet PRUEBA
B1: MARCO DE REFERENCIA DEL PROCESO
B2: CONTABLE
B3: ELEMENTOS DEL MARCO NORMATIVO
B4: POLÍTICAS CONTABLES | C4: TIPO | D4: CALIFICACIÓN | E4: TOTAL | F4: OBSERVACIONES
A5: 1 | B5: ¿La entidad ha definido las políticas contables que debe aplicar para el reconocimiento, medición, revelación y presentación de los hechos económicos de acuerdo con el marco normativo que le corresponde | C5: Ex | D5: SI | E5: =IF(D5<>"",IF(C5="Ex",VLOOKUP(D5,Hoja2!$A$7:$B$9,2,FALSE),IF(C5="ef",VLOOKUP(D5,Hoja2!$D$7:$E$9,2,FALSE),"")),"") -> 0.3
B6: aplicar?
A7: 1.1 | B7: ¿Se socializan las políticas con el personal involucrado en el proceso | C7: Ef | D7: SI | E7: =IF(D7<>"",IF(C7="Ex",VLOOKUP(D7,Hoja2!$A$7:$B$9,2,FALSE),IF(C7="ef",VLOOKUP(D7,Hoja2!$D$7:$E$9,2,FALSE),"")),"") -> 0.7
B8: contable?
A9: 1.2 | B9: ¿Las políticas establecidas son aplicadas en el desarrollo del proceso | C9: Ef | D9: SI | E9: =IF(D9<>"",IF(C9="Ex",VLOOKUP(D9,Hoja2!$A$7:$B$9,2,FALSE),IF(C9="ef",VLOOKUP(D9,Hoja2!$D$7:$E$9,2,FALSE),"")),"") -> 0.7
B10: contable?
A11: 1.3 | B11: ¿Las políticas contables responden a la | C11: Ef | D11: SI | E11: =IF(D11<>"",IF(C11="Ex",VLOOKUP(D11,Hoja2!$A$7:$B$9,2,FALSE),IF(C11="ef",VLOOKUP(D11,Hoja2!$D$7:$E$9,2,FALSE),"")),"") -> 0.7
B12: naturaleza y a la actividad de la entidad?
A13: 1.4 | B13: ¿Las políticas contables propenden por la representación fiel de la información | C13: Ef | D13: SI | E13: =IF(D13<>"",IF(C13="Ex",VLOOKUP(D13,Hoja2!$A$7:$B$9,2,FALSE),IF(C13="ef",VLOOKUP(D13,Hoja2!$D$7:$E$9,2,FALSE),"")),"") -> 0.7
B14: financiera?
A15: 2 | B15: ¿Se establecen instrumentos (planes, procedimientos, manuales, reglas de negocio, guías, etc) para el | C15: Ex | D15: SI | E15: =IF(D15<>"",IF(C15="Ex",VLOOKUP(D15,Hoja2!$A$7:$B$9,2,FALSE),IF(C15="ef",VLOOKUP(D15,Hoja2!$D$7:$E$9,2,FALSE),"")),"") -> 0.3
B16: seguimiento al cumplimiento de los
B17: planes de mejoramiento derivados de | E17: =IF(D17<>"",IF(C17="Ex",VLOOKUP(D17,Hoja2!$A$7:$B$9,2,FALSE),IF(C17="ef",VLOOKUP(D17,Hoja2!$D$7:$E$9,2,FALSE),"")),"")
B18: los hallazgos de auditoría interna o externa?
A19: 2.1 | B19: ¿Se socializan estos instrumentos de | C19: Ef | D19: SI | E19: =IF(D19<>"",IF(C19="Ex",VLOOKUP(D19,Hoja2!$A$7:$B$9,2,FALSE),IF(C19="ef",VLOOKUP(D19,Hoja2!$D$7:$E$9,2,FALSE),"")),"") -> 0.7
B20: seguimiento con los responsables?
A21: 2.2 | B21: ¿Se hace seguimiento o monitoreo al | C21: Ef | D21: SI | E21: =IF(D21<>"",IF(C21="Ex",VLOOKUP(D21,Hoja2!$A$7:$B$9,2,FALSE),IF(C21="ef",VLOOKUP(D21,Hoja2!$D$7:$E$9,2,FALSE),"")),"") -> 0.7
B22: cumplimiento de los planes de mejoramiento?
A23: 3 | B23: ¿La entidad cuenta con una política o instrumento (procedimiento, manual, regla de negocio, guía, instructivo, etc.) tendiente a facilitar el flujo de información relativo a los hechos económicos originados en cualquier | C23: Ex | D23: SI | E23: =IF(D23<>"",IF(C23="Ex",VLOOKUP(D23,Hoja2!$A$7:$B$9,2,FALSE),IF(C23="ef",VLOOKUP(D23,Hoja2!$D$7:$E$9,2,FALSE),"")),"") -> 0.3
B24: dependencia?
A25: 3.1 | B25: ¿Se socializan estas herramientas con | C25: Ef | D25: SI | E25: =IF(D25<>"",IF(C25="Ex",VLOOKUP(D25,Hoja2!$A$7:$B$9,2,FALSE),IF(C25="ef",VLOOKUP(D25,Hoja2!$D$7:$E$9,2,FALSE),"")),"") -> 0.7
B26: el personal involucrado en el proceso?
A27: 3.2 | B27: ¿Se tienen identificados los documentos idóneos mediante los | C27: Ef | D27: SI | E27: =IF(D27<>"",IF(C27="Ex",VLOOKUP(D27,Hoja2!$A$7:$B$9,2,FALSE),IF(C27="ef",VLOOKUP(D27,Hoja2!$D$7:$E$9,2,FALSE),"")),"") -> 0.7
B28: cuales se informa al área contable?
A29: 3.3 | B29: ¿Existen procedimientos internos | C29: Ef | D29: SI | E29: =IF(D29<>"",IF(C29="Ex",VLOOKUP(D29,Hoja2!$A$7:$B$9,2,FALSE),IF(C29="ef",VLOOKUP(D29,Hoja2!$D$7:$E$9,2,FALSE),"")),"") -> 0.7
B30: documentados que faciliten la aplicación de la política?
A31: 4 | B31: ¿Se ha implementado una política o instrumento (directriz, procedimiento, guía o lineamiento) sobre la identificación de los bienes físicos en forma individualizada dentro del | C31: Ex | D31: SI | E31: =IF(D31<>"",IF(C31="Ex",VLOOKUP(D31,Hoja2!$A$7:$B$9,2,FALSE),IF(C31="ef",VLOOKUP(D31,Hoja2!$D$7:$E$9,2,FALSE),"")),"") -> 0.3
B32: proceso contable de la entidad?
A33: 4.1 | B33: ¿Se ha socializado este instrumento con el personal involucrado en el | C33: Ef | D33: SI | E33: =IF(D33<>"",IF(C33="Ex",VLOOKUP(D33,Hoja2!$A$7:$B$9,2,FALSE),IF(C33="ef",VLOOKUP(D33,Hoja2!$D$7:$E$9,2,FALSE),"")),"") -> 0.7
B34: proceso?
A35: 4.2 | B35: ¿Se verifica la individualización de los | C35: Ef | D35: SI | E35: =IF(D35<>"",IF(C35="Ex",VLOOKUP(D35,Hoja2!$A$7:$B$9,2,FALSE),IF(C35="ef",VLOOKUP(D35,Hoja2!$D$7:$E$9,2,FALSE),"")),"") -> 0.7
B36: bienes físicos?
A37: 5 | B37: ¿Se cuenta con una directriz, guía o | C37: Ex | D37: SI | E37: =IF(D37<>"",IF(C37="Ex",VLOOKUP(D37,Hoja2!$A$7:$B$9,2,FALSE),IF(C37="ef",VLOOKUP(D37,Hoja2!$D$7:$E$9,2,FALSE),"")),"") -> 0.3
B38: procedimiento para realizar las conciliaciones de las partidas más relevantes, a fin de lograr una adecuada identificación y medición?
A39: 5.1 | B39: ¿Se socializan estas directrices, guías o procedimientos con el personal | C39: Ef | D39: SI | E39: =IF(D39<>"",IF(C39="Ex",VLOOKUP(D39,Hoja2!$A$7:$B$9,2,FALSE),IF(C39="ef",VLOOKUP(D39,Hoja2!$D$7:$E$9,2,FALSE),"")),"") -> 0.7
B40: involucrado en el proceso?
...
