Workbook
Name eee: '[1]archivo de datos'!$E$34:$E$35
Name eeeeeeeeeeee: '[2] '!$E$20:$E$31
Name eeeeeeeeeeeeeeeee: '[2] '!$E$14:$E$17
Name fuenteRecursos: '[3] '!$E$2:$E$11
Name meses: '[3] '!$E$20:$E$31
Name modalidad: '[3] '!$B$2:$B$15
Name vf: '[3] '!$E$34:$E$35
Name vfestado: '[3] '!$E$14:$E$17

Sheet V0- ENERO
C2: PLAN ANUAL DE ADQUISICIONES
C4: A. INFORMACIÓN GENERAL DE LA ENTIDAD
C5: Nombre | D5: FONDO DE BIENESTAR SOCIAL DE LA CONTRALORIA GENERAL DE LA REPUBLICA | G5: El principal objetivo del Plan Anual de Adquisiciones es permitir que la entidad estatal aumente la probabilidad de lograr mejores condiciones de competencia a través de la participación de un mayor número de operadores económicos interesados en los procesos de selección que se van a adelantar durante el año fiscal, y que el Estado cuente con información suficiente para realizar compras coordinadas.
C6: Dirección | D6: CARRERA 69 No.44-35 piso 4
C7: Teléfono
C8: Página web
C9: Misión y visión | D9: MISION: Ofrecer servicios de bienestar con oportunidad, por medio de programas que mejoren la calidad de vida de nuestros usuarios y sus familias. VISION: Posicionarnos en el 2026 como gestores de bienestar mediante la transformación, agilidad oportunidad y mejora en la prestación de los servicios, soportados en un talento humano dispuesto al cambio.
C10: Perspectiva estratégica | D10: Durante el cuatrienio 2022-2026 el Fondo de Bienestar Social de la Contraloría General de la República desarrollará cuatro objetivos: Mejorar la satisfacción de los usuarios mediante la prestación efectiva de los servicios de bienestar, respondiendo a sus necesidades y expectativas de calidad y oportunidad. Alcanzar en el 2026 el 90% de avance en la implementación de la política TICs del Estado de manera que los resultados se reflejen en la gestión interna, así como en la entrega de servicios digitales a usuarios y grupos de interés. Alcanzar en el 2026 el 90% de avance en la implementación de la política TICs del Estado de manera que los resultados se reflejen en la gestión interna, así como en la entrega de servicios digitales a usuarios y grupos de interés. Fortalecer la gestión del Talento Humano para que responda a los retos del contexto institucional, a partir del desarrollo integral de habilidades, reducción de brechas en competencias laborales y adaptación permanente al cambio. Aumentar el desempeño institucional por medio de la implementación del proceso de reorganización administrativa, gestión, seguimiento y control permanentes de los recursos financieros y mejora de la infraestructura física. Para alcanzar estos objetivos fueron programadas once estrategias y veinticinco productos estratégicos.
C11: Información de contacto | D11: CARMEN TERESA CASTAÑEDA VILLAMIZAR | G11: El Plan Anual de Adquisiciones es un documento de naturaleza informativa y las adquisiciones incluidas en el mismo pueden ser canceladas, revisadas o modificadas. Esta información no representa compromiso u obligación alguna por parte de la entidad estatal ni la compromete a adquirir los bienes, obras y servicios en él señalados.
C12: Valor total del PAA | D12: =+J119 -> 9511750000
C13: Límite de contratación menor cuantía | D13: 364000000
C14: Límite de contratación mínima cuantía | D14: 36400000
C15: Fecha de última actualización del PAA | D15: 45302
A17: Grupo /Area | B17: item | C17: Códigos UNSPSC | D17: Descripción | E17: Fecha estimada de inicio de proceso de selección (mes) | F17: Duración estimada del contrato (número de mes(es)) | G17: Modalidad de selección | H17: Fuente de los recursos | I17: Valor total estimado | J17: Valor estimado en la vigencia actual | K17: ¿Se requieren vigencias futuras? | L17: Estado de solicitud de vigencias futuras | M17: Datos de contacto del responsable
A18: Bienestar y Calidad de vida | B18: 1 | C18: 90151700;90151800;90151500;90141700;53102200;53102900;53102700;90151502;90151501;90151701 | D18: Prestar servicios de organización logistica y desarrollo de programas de recreacion cultura deportes y salud dirigido a las Gerencias Departamentales- Amazonas, de acuerdo al Plan de Bienestar | E18: Marzo | F18: 9 | G18: CONTRATACION_DIRECTA | H18: Presupuesto General de la Nación – PGN | I18: 29765000 | J18: 29765000 | K18: No | L18: NA | M18: Diana Carolina Molina Carvajal - Tel 6013779877 - dmolina@fbscgr.gov.co
A19: Bienestar y Calidad de vida | B19: 2 | C19: 90151700;90151800;90151500;90141700;53102200;53102900;53102700;90151502;90151501;90151701 | D19: Prestar servicios de organización logistica y desarrollo de programas de recreacion cultura deportes y salud dirigido a las Gerencias Departamentales- Antioquia, de acuerdo al Plan de Bienestar | E19: Abril | F19: 8 | G19: CONTRATACION_DIRECTA | H19: Presupuesto General de la Nación – PGN | I19: 106504000 | J19: 106504000 | K19: No | L19: NA | M19: Diana Carolina Molina Carvajal - Tel 6013779877 - dmolina@fbscgr.gov.co
A20: Bienestar y Calidad de vida | B20: 3 | C20: 90151700;90151800;90151500;90141700;53102200;53102900;53102700;90151502;90151501;90151701 | D20: Prestar servicios de organización logistica y desarrollo de programas de recreacion cultura deportes y salud dirigido a las Gerencias Departamentales- Arauca, de acuerdo al Plan de Bienestar | E20: Abril | F20: 8 | G20: CONTRATACION_DIRECTA | H20: Presupuesto General de la Nación – PGN | I20: 30372000 | J20: 30372000 | K20: No | L20: NA | M20: Diana Carolina Molina Carvajal - Tel 6013779877 - dmolina@fbscgr.gov.co
A21: Bienestar y Calidad de vida | B21: 4 | C21: 90151700;90151800;90151500;90141700;53102200;53102900;53102700;90151502;90151501;90151701 | D21: Prestar servicios de organización logistica y desarrollo de programas de recreacion cultura deportes y salud dirigido a las Gerencias Departamentales- Atlantico, de acuerdo al Plan de Bienestar | E21: Abril | F21: 8 | G21: CONTRATACION_DIRECTA | H21: Presupuesto General de la Nación – PGN | I21: 75323000 | J21: 75323000 | K21: No | L21: NA | M21: Diana Carolina Molina Carvajal - Tel 6013779877 - dmolina@fbscgr.gov.co
A22: Bienestar y Calidad de vida | B22: 5 | C22: 90151700;90151800;90151500;90141700;53102200;53102900;53102700;90151502;90151501;90151701 | D22: Prestar servicios de organización logistica y desarrollo de programas de recreacion cultura deportes y salud dirigido a las Gerencias Departamentales- Bolívar, de acuerdo al Plan de Bienestar | E22: Mayo | F22: 9 | G22: CONTRATACION_DIRECTA | H22: Presupuesto General de la Nación – PGN | I22: 57909000 | J22: 57909000 | K22: No | L22: NA | M22: Diana Carolina Molina Carvajal - Tel 6013779877 - dmolina@fbscgr.gov.co
A23: Bienestar y Calidad de vida | B23: 6 | C23: 90151700;90151800;90151500;90141700;53102200;53102900;53102700;90151502;90151501;90151701 | D23: Prestar servicios de organización logistica y desarrollo de programas de recreacion cultura deportes y salud dirigido a las Gerencias Departamentales- Boyacá, de acuerdo al Plan de Bienestar | E23: Abril | F23: 8 | G23: SELECCION_ABREVIADA | H23: Presupuesto General de la Nación – PGN | I23: 60744000 | J23: 60744000 | K23: No | L23: NA | M23: Diana Carolina Molina Carvajal - Tel 6013779877 - dmolina@fbscgr.gov.co
A24: Bienestar y Calidad de vida | B24: 7 | C24: 90151700;90151800;90151500;90141700;53102200;53102900;53102700;90151502;90151501;90151701 | D24: Prestar servicios de organización logistica y desarrollo de programas de recreacion cultura deportes y salud dirigido a las Gerencias Departamentales- Caldas, de acuerdo al Plan de Bienestar | E24: Abril | F24: 8 | G24: CONTRATACION_DIRECTA | H24: Presupuesto General de la Nación – PGN | I24: 46165000 | J24: 46165000 | K24: No | L24: NA | M24: Diana Carolina Molina Carvajal - Tel 6013779877 - dmolina@fbscgr.gov.co
A25: Bienestar y Calidad de vida | B25: 8 | C25: 90151700;90151800;90151500;90141700;53102200;53102900;53102700;90151502;90151501;90151701 | D25: Prestar servicios de organización logistica y desarrollo de programas de recreacion cultura deportes y salud dirigido a las Gerencias Departamentales- Casanare, de acuerdo al Plan de Bienestar | E25: Mayo | F25: 7 | G25: SELECCION_ABREVIADA | H25: Presupuesto General de la Nación – PGN | I25: 41913000 | J25: 41913000 | K25: No | L25: NA | M25: Diana Carolina Molina Carvajal - Tel 6013779877 - dmolina@fbscgr.gov.co
A26: Bienestar y Calidad de vida | B26: 9 | C26: 90151700;90151800;90151500;90141700;53102200;53102900;53102700;90151502;90151501;90151701 | D26: Prestar servicios de organización logistica y desarrollo de programas de recreacion cultura deportes y salud dirigido a las Gerencias Departamentales- Caquetá, de acuerdo al Plan de Bienestar | E26: Mayo | F26: 7 | G26: SELECCION_ABREVIADA | H26: Presupuesto General de la Nación – PGN | I26: 42521000 | J26: 42521000 | K26: No | L26: NA | M26: Diana Carolina Molina Carvajal - Tel 6013779877 - dmolina@fbscgr.gov.co
A27: Bienestar y Calidad de vida | B27: 10 | C27: 90151700;90151800;90151500;90141700;53102200;53102900;53102700;90151502;90151501;90151701 | D27: Prestar servicios de organización logistica y desarrollo de programas de recreacion cultura deportes y salud dirigido a las Gerencias Departamentales- Cauca, de acuerdo al Plan de Bienestar | E27: Abril | F27: 8 | G27: CONTRATACION_DIRECTA | H27: Presupuesto General de la Nación – PGN | I27: 45760000 | J27: 45760000 | K27: No | L27: NA | M27: Diana Carolina Molina Carvajal - Tel 6013779877 - dmolina@fbscgr.gov.co
A28: Bienestar y Calidad de vida | B28: 11 | C28: 90151700;90151800;90151500;90141700;53102200;53102900;53102700;90151502;90151501;90151701 | D28: Prestar servicios de organización logistica y desarrollo de programas de recreacion cultura deportes y salud dirigido a las Gerencias Departamentales- Chocó, de acuerdo al Plan de Bienestar | E28: Marzo | F28: 9 | G28: SELECCION_ABREVIADA | H28: Presupuesto General de la Nación – PGN | I28: 49203000 | J28: 49203000 | K28: No | L28: NA | M28: Diana Carolina Molina Carvajal - Tel 6013779877 - dmolina@fbscgr.gov.co
A29: Bienestar y Calidad de vida | B29: 12 | C29: 90151700;90151800;90151500;90141700;53102200;53102900;53102700;90151502;90151501;90151701 | D29: Prestar servicios de organización logistica y desarrollo de programas de recreacion cultura deportes y salud dirigido a las Gerencias Departamentales- Córdoba, de acuerdo al Plan de Bienestar | E29: Abril | F29: 8 | G29: CONTRATACION_DIRECTA | H29: Presupuesto General de la Nación – PGN | I29: 41306000 | J29: 41306000 | K29: No | L29: NA | M29: Diana Carolina Molina Carvajal - Tel 6013779877 - dmolina@fbscgr.gov.co
... A54: Desarrollo y Emprendimiento | B54: 37 | C54: 85141700;85141701;85141702 | D54: Prestación de servicios profesionales especializados en MEDICINA ALTERNATIVA Y COMPLEMENTARIA para realizar la evaluación, diagnóstico y tratamiento de las diferentes patologías de los usuarios del Programa de Salud Centro Médico del Fondo de Bienestar Social de la CGR | E54: Febrero | F54: 10 | G54: CONTRATACION_DIRECTA | H54: Presupuesto General de la Nación – PGN | I54: 45634000 | J54: 45634000 | K54: NA | L54: NA | M54: Diana Carolina Molina Carvajal - Tel 6013779877 - dmolina@fbscgr.gov.co
A55: Desarrollo y Emprendimiento | B55: 38 | C55: 85121600 | D55: Prestación de servicios profesionales especializados en MEDICINA FISICA Y REHABILITACION para realizar la evaluación clínica, diagnóstico y tratamiento de las diferentes patologías de los usuarios del Programa de Salud Centro Médico del Fondo de Bienestar Social de la CGR | E55: Febrero | F55: 10 | G55: CONTRATACION_DIRECTA | H55: Presupuesto General de la Nación – PGN | I55: 29920000 | J55: 29920000 | K55: NA | L55: NA | M55: Diana Carolina Molina Carvajal - Tel 6013779877 - dmolina@fbscgr.gov.co
A56: Desarrollo y Emprendimiento | B56: 39 | C56: 85121601 | D56: Prestación de servicios profesionales especializados en GINECOLOGIA para realizar evaluación, diagnóstico y tratamiento de las diferentes patologías de las usuarias del Programa de Salud Centro Médico del Fondo de Bienestar Social de la CGR | E56: Febrero | F56: 10 | G56: CONTRATACION_DIRECTA | H56: Presupuesto General de la Nación – PGN | I56: 48000000 | J56: 48000000 | K56: NA | L56: NA | M56: Diana Carolina Molina Carvajal - Tel 6013779877 - dmolina@fbscgr.gov.co
A57: Desarrollo y Emprendimiento | B57: 40 | C57: 93141500 | D57: Prestar servicios profesionales como docente del áea de física para el programa de Educación del Colegio para hijos de empleados de la Contraloria General de la República, del Fondo de Bienestar Social de la CGR. | E57: Febrero | F57: 11 | G57: CONTRATACION_DIRECTA | H57: Presupuesto General de la Nación – PGN | I57: 57650000 | J57: 57650000 | K57: N/A | L57: NA | M57: Diana Carolina Molina Carvajal - Tel 6013779877 - dmolina@fbscgr.gov.co
A58: Desarrollo y Emprendimiento | B58: 41 | C58: 85122100 | D58: Prestación de servicios profesionales, como instructutor de deportes para la realización de actividades propias del Colegio para hijos de empleados de la CGR | E58: Febrero | F58: 11 | G58: CONTRATACION_DIRECTA | H58: Presupuesto General de la Nación – PGN | I58: 38500000 | J58: 38500000 | K58: N/A | L58: NA | M58: Diana Carolina Molina Carvajal - Tel 6013779877 - dmolina@fbscgr.gov.co
A59: Desarrollo y Emprendimiento | B59: 42 | C59: 85122100 | D59: Prestación de servicios profesionales, como instructutor de música para la realización de actividades propias del Colegio para hijos de empleados de la CGR | E59: Febrero | F59: 11 | G59: CONTRATACION_DIRECTA | H59: Presupuesto General de la Nación – PGN | I59: 38500000 | J59: 38500000 | K59: N/A | L59: NA | M59: Diana Carolina Molina Carvajal - Tel 6013779877 - dmolina@fbscgr.gov.co
A60: Desarrollo y Emprendimiento | B60: 43 | C60: 82141501;82141502;82141503;82141504;82141505;82141601 | D60: Prestar los servicios profesionales en el área de comunicación, diseño y/o diseño gráfico, para desarrollar actividades de comunicaciones, diseño de piezas gráficas, divulgación, promoción, cubrimiento y acompañamiento de los servicios misionales y de apoyo del Fondo de Bienestar Social de la Contraloría General de la República. | E60: Febrero | F60: 11 | G60: CONTRATACION_DIRECTA | H60: Presupuesto General de la Nación – PGN | I60: 60500000 | J60: 60500000 | K60: No | L60: NA | M60: Diana Carolina Molina Carvajal - Tel 6013779877 - dmolina@fbscgr.gov.co
A61: Desarrollo y Emprendimiento | B61: 44 | C61: 85101601 | D61: Prestación de servicios de apoyo a la gestión como auxiliar de enfermería para la institución educativa del Fondo de Bienestar Social de la Contraloría General de la República, sin que exista subordinación laboral y utilizando sus propios medios. | E61: Febrero | F61: 3 | G61: CONTRATACION_DIRECTA | H61: Presupuesto General de la Nación – PGN | I61: 7354000 | J61: 7354000 | K61: No | L61: NA | M61: Diana Carolina Molina Carvajal - Tel 6013779877 - dmolina@fbscgr.gov.co
A62: Desarrollo y Emprendimiento | B62: 45 | C62: 85161500;85161502;85161503;81101706;73152108 | D62: Prestar el servicio técnico especializado a todo costo, para el mantenimiento preventivo y/o correctivo, metrología y calibración de los EQUIPOS BIOMEDICOS para el Programa de Salud Centro Médico del Fondo de Bienestar Social dela Contraloría General de la Republica, para la vigencia 2024. | E62: Marzo | F62: 9 | G62: SUBASTA | H62: Presupuesto General de la Nación – PGN | I62: 56076000 | J62: 56076000 | K62: NA | L62: NA | M62: Diana Carolina Molina Carvajal - Tel 6013779877 - dmolina@fbscgr.gov.co
A63: Desarrollo y Emprendimiento | B63: 46 | C63: 12161500;12161503;12171509;12352104;24101510;24112600;26111700;26111702;30181614;41103206;41104107;41104108;41104112;41104121;41104122;41104213;41111504;41111508;41111509;41113035;41115816;41116000;41116001;41116004;41116005;41116008;41116010;41116014;41116100;41116104;41116105;41116106;41116107;41116108;41116120;41116121;41116122;41116126;41116127;41116129;41116130;41116136;41116138;41116139;41116205;41121502;41121600;41121607;41121700;41121701;41121708;41121711;41121800;41121811;41121816;41122601;41122602;41122605;42142500;42142502;42142515;42142521;42142523;42142531;42142609;42151505;42151600;42151602;42151603;42151604;42151606;42151611;42151613;42151614;42151621;42151624;42151625;42151629;42151635;42151636;42151638;42151639;42151647;42151660;42151661;42151681;42151700;42151703;42151704;42151800;42151805;42151806;42151810;42151900;42151901;42151902;42151905;42151910;42152200;42152400;42152407;42152423;42152428;42152443;42152450;42152453;42152454;42152457;42152465;42152500;42152502;42152504;42152507;42152508;42152512;42152514;42152600;42152601;42152800;42152805;42281704;42281705;42281904;42281914;42292904;42312206;46181804;47121709;47131502;47131700;47131807;52121700;52121701;52121704;72151800;42251600;42251607;42251608;42251618;42251623;47121701;42192210;42211501;42211502;42251608;42251610;42251612;42251618;42251619;42251621;42251623;42251624;31241706;42192107;42182902;41103903 | D63: Compra de INSUMOS, DISPOSITIVOS MEDICOS Y PRODUCTOS FARMACEUTICOS (insumos y reactivos de laboratorio clínico, insumos de odontología, insumos medico quirurgicos, de fisioterapia) para el Programa de Salud Centro Médico del FBS para la vigencia 2024. | E63: Marzo | F63: 1 | G63: SUBASTA | H63: Presupuesto General de la Nación – PGN | I63: 116755000 | J63: 116755000 | K63: NA | L63: NA | M63: Diana Carolina Molina Carvajal - Tel 6013779877 - dmolina@fbscgr.gov.co
A64: Desarrollo y Emprendimiento | B64: 47 | C64: 41116100;41116107;41116122;41116139 | D64: Adquirir los controles de calidad del laboratorio clínico para el Programa de Salud Centro Médico del Fondo de Bienestar Social de la Contraloría General de la República durante la vigencia 2024. | E64: Marzo | F64: 10 | G64: CONTRATACION_MINIMA_CUANTIA | H64: Presupuesto General de la Nación – PGN | I64: 9833000 | J64: 9833000 | K64: N/A | L64: NA | M64: Diana Carolina Molina Carvajal - Tel 6013779877 - dmolina@fbscgr.gov.co
A65: Desarrollo y Emprendimiento | B65: 48 | C65: 81112200;43232300 | D65: Prestar los servicios de outsorcing, soporte y el mantenimiento del Software de salud del Centro Medico del Fondo de Bienestar Social de la Contraloría General de la República | E65: Enero | F65: 11 | G65: CONTRATACION_DIRECTA | H65: Presupuesto General de la Nación – PGN | I65: 55000000 | J65: 55000000 | K65: NA | L65: NA | M65: Diana Carolina Molina Carvajal - Tel 6013779877 - dmolina@fbscgr.gov.co
A66: Desarrollo y Emprendimiento | B66: 49 | C66: 76121900;76121901 | D66: Contratar el servicio para la gestión integral de los residuos hospitalarios y similares generados en el Centro Médico del FBS de la CGR durante la vigencia 2024 | E66: Febrero | F66: 11 | G66: CONTRATACION_MINIMA_CUANTIA | H66: Presupuesto General de la Nación – PGN | I66: 1650000 | J66: 1650000 | K66: N/A | L66: NA | M66: Diana Carolina Molina Carvajal - Tel 6013779877 - dmolina@fbscgr.gov.co
A67: Desarrollo y Emprendimiento | B67: 50 | C67: 93141700 | D67: Prestar el servicio de organización, apoyo logístico y eventos institucionales para el servicio de organización y ejecución de las actividades feria del libro, día del estudiante, día de la familia, festival de inglés, convivencias y ceremonia de grados estudiantes del colegio para hijos de empleados de la Contraloría General de la República. | E67: Marzo | F67: 5 | G67: CONTRATACION_DIRECTA | H67: Presupuesto General de la Nación – PGN | I67: 140000000 | J67: 140000000 | K67: N/A | L67: NA | M67: Diana Carolina Molina Carvajal - Tel 6013779877 - dmolina@fbscgr.gov.co
...

Sheet M01-MARZO 7
C2: PLAN ANUAL DE ADQUISICIONES
C4: A. INFORMACIÓN GENERAL DE LA ENTIDAD
C5: Nombre | D5: FONDO DE BIENESTAR SOCIAL DE LA CONTRALORIA GENERAL DE LA REPUBLICA | G5: El principal objetivo del Plan Anual de Adquisiciones es permitir que la entidad estatal aumente la probabilidad de lograr mejores condiciones de competencia a través de la participación de un mayor número de operadores económicos interesados en los procesos de selección que se van a adelantar durante el año fiscal, y que el Estado cuente con información suficiente para realizar compras coordinadas.
C6: Dirección | D6: CARRERA 69 No.44-35 piso 4
C7: Teléfono
C8: Página web
C9: Misión y visión | D9: MISION: Ofrecer servicios de bienestar con oportunidad, por medio de programas que mejoren la calidad de vida de nuestros usuarios y sus familias. VISION: Posicionarnos en el 2026 como gestores de bienestar mediante la transformación, agilidad oportunidad y mejora en la prestación de los servicios, soportados en un talento humano dispuesto al cambio.
C10: Perspectiva estratégica | D10: Durante el cuatrienio 2022-2026 el Fondo de Bienestar Social de la Contraloría General de la República desarrollará cuatro objetivos: Mejorar la satisfacción de los usuarios mediante la prestación efectiva de los servicios de bienestar, respondiendo a sus necesidades y expectativas de calidad y oportunidad. Alcanzar en el 2026 el 90% de avance en la implementación de la política TICs del Estado de manera que los resultados se reflejen en la gestión interna, así como en la entrega de servicios digitales a usuarios y grupos de interés. Alcanzar en el 2026 el 90% de avance en la implementación de la política TICs del Estado de manera que los resultados se reflejen en la gestión interna, así como en la entrega de servicios digitales a usuarios y grupos de interés. Fortalecer la gestión del Talento Humano para que responda a los retos del contexto institucional, a partir del desarrollo integral de habilidades, reducción de brechas en competencias laborales y adaptación permanente al cambio. Aumentar el desempeño institucional por medio de la implementación del proceso de reorganización administrativa, gestión, seguimiento y control permanentes de los recursos financieros y mejora de la infraestructura física. Para alcanzar estos objetivos fueron programadas once estrategias y veinticinco productos estratégicos.
C11: Información de contacto | D11: CARMEN TERESA CASTAÑEDA VILLAMIZAR | G11: El Plan Anual de Adquisiciones es un documento de naturaleza informativa y las adquisiciones incluidas en el mismo pueden ser canceladas, revisadas o modificadas. Esta información no representa compromiso u obligación alguna por parte de la entidad estatal ni la compromete a adquirir los bienes, obras y servicios en él señalados.
C12: Valor total del PAA | D12: =+J118 -> 9283874000
C13: Límite de contratación menor cuantía | D13: 364000000
C14: Límite de contratación mínima cuantía | D14: 36400000
C15: Fecha de última actualización del PAA | D15: 45302
A17: Grupo /Area | B17: item | C17: Códigos UNSPSC | D17: Descripción | E17: Fecha estimada de inicio de proceso de selección (mes) | F17: Duración estimada del contrato (número de mes(es)) | G17: Modalidad de selección | H17: Fuente de los recursos | I17: Valor total estimado | J17: Valor estimado en la vigencia actual | K17: ¿Se requieren vigencias futuras? | L17: Estado de solicitud de vigencias futuras | M17: Datos de contacto del responsable
A18: Bienestar y Calidad de vida | B18: 1 | C18: 90151700;90151800;90151500;90141700;53102200;53102900;53102700;90151502;90151501;90151701 | D18: Prestar servicios de organización logistica y desarrollo de programas de recreacion cultura deportes y salud dirigido a las Gerencias Departamentales- Amazonas, de acuerdo al Plan de Bienestar | E18: Marzo | F18: 9 | G18: CONTRATACION_DIRECTA | H18: Presupuesto General de la Nación – PGN | I18: 29765000 | J18: 29765000 | K18: No | L18: NA | M18: Diana Carolina Molina Carvajal - Tel 6013779877 - dmolina@fbscgr.gov.co
A19: Bienestar y Calidad de vida | B19: 2 | C19: 90151700;90151800;90151500;90141700;53102200;53102900;53102700;90151502;90151501;90151701 | D19: Prestar servicios de organización logistica y desarrollo de programas de recreacion cultura deportes y salud dirigido a las Gerencias Departamentales- Antioquia, de acuerdo al Plan de Bienestar | E19: Abril | F19: 8 | G19: CONTRATACION_DIRECTA | H19: Presupuesto General de la Nación – PGN | I19: 106504000 | J19: 106504000 | K19: No | L19: NA | M19: Diana Carolina Molina Carvajal - Tel 6013779877 - dmolina@fbscgr.gov.co
A20: Bienestar y Calidad de vida | B20: 3 | C20: 90151700;90151800;90151500;90141700;53102200;53102900;53102700;90151502;90151501;90151701 | D20: Prestar servicios de organización logistica y desarrollo de programas de recreacion cultura deportes y salud dirigido a las Gerencias Departamentales- Arauca, de acuerdo al Plan de Bienestar | E20: Abril | F20: 8 | G20: CONTRATACION_DIRECTA | H20: Presupuesto General de la Nación – PGN | I20: 30372000 | J20: 30372000 | K20: No | L20: NA | M20: Diana Carolina Molina Carvajal - Tel 6013779877 - dmolina@fbscgr.gov.co
A21: Bienestar y Calidad de vida | B21: 4 | C21: 90151700;90151800;90151500;90141700;53102200;53102900;53102700;90151502;90151501;90151701 | D21: Prestar servicios de organización logistica y desarrollo de programas de recreacion cultura deportes y salud dirigido a las Gerencias Departamentales- Atlantico, de acuerdo al Plan de Bienestar | E21: Abril | F21: 8 | G21: CONTRATACION_DIRECTA | H21: Presupuesto General de la Nación – PGN | I21: 75323000 | J21: 75323000 | K21: No | L21: NA | M21: Diana Carolina Molina Carvajal - Tel 6013779877 - dmolina@fbscgr.gov.co
A22: Bienestar y Calidad de vida | B22: 5 | C22: 90151700;90151800;90151500;90141700;53102200;53102900;53102700;90151502;90151501;90151701 | D22: Prestar servicios de organización logistica y desarrollo de programas de recreacion cultura deportes y salud dirigido a las Gerencias Departamentales- Bolívar, de acuerdo al Plan de Bienestar | E22: Mayo | F22: 9 | G22: CONTRATACION_DIRECTA | H22: Presupuesto General de la Nación – PGN | I22: 57909000 | J22: 57909000 | K22: No | L22: NA | M22: Diana Carolina Molina Carvajal - Tel 6013779877 - dmolina@fbscgr.gov.co
A23: Bienestar y Calidad de vida | B23: 6 | C23: 90151700;90151800;90151500;90141700;53102200;53102900;53102700;90151502;90151501;90151701 | D23: Prestar servicios de organización logistica y desarrollo de programas de recreacion cultura deportes y salud dirigido a las Gerencias Departamentales- Boyacá, de acuerdo al Plan de Bienestar | E23: Abril | F23: 8 | G23: SELECCION_ABREVIADA | H23: Presupuesto General de la Nación – PGN | I23: 60744000 | J23: 60744000 | K23: No | L23: NA | M23: Diana Carolina Molina Carvajal - Tel 6013779877 - dmolina@fbscgr.gov.co
A24: Bienestar y Calidad de vida | B24: 7 | C24: 90151700;90151800;90151500;90141700;53102200;53102900;53102700;90151502;90151501;90151701 | D24: Prestar servicios de organización logistica y desarrollo de programas de recreacion cultura deportes y salud dirigido a las Gerencias Departamentales- Caldas, de acuerdo al Plan de Bienestar | E24: Abril | F24: 8 | G24: CONTRATACION_DIRECTA | H24: Presupuesto General de la Nación – PGN | I24: 46165000 | J24: 46165000 | K24: No | L24: NA | M24: Diana Carolina Molina Carvajal - Tel 6013779877 - dmolina@fbscgr.gov.co
A25: Bienestar y Calidad de vida | B25: 8 | C25: 90151700;90151800;90151500;90141700;53102200;53102900;53102700;90151502;90151501;90151701 | D25: Prestar servicios de organización logistica y desarrollo de programas de recreacion cultura deportes y salud dirigido a las Gerencias Departamentales- Casanare, de acuerdo al Plan de Bienestar | E25: Mayo | F25: 7 | G25: SELECCION_ABREVIADA | H25: Presupuesto General de la Nación – PGN | I25: 41913000 | J25: 41913000 | K25: No | L25: NA | M25: Diana Carolina Molina Carvajal - Tel 6013779877 - dmolina@fbscgr.gov.co
A26: Bienestar y Calidad de vida | B26: 9 | C26: 90151700;90151800;90151500;90141700;53102200;53102900;53102700;90151502;90151501;90151701 | D26: Prestar servicios de organización logistica y desarrollo de programas de recreacion cultura deportes y salud dirigido a las Gerencias Departamentales- Caquetá, de acuerdo al Plan de Bienestar | E26: Mayo | F26: 7 | G26: SELECCION_ABREVIADA | H26: Presupuesto General de la Nación – PGN | I26: 42521000 | J26: 42521000 | K26: No | L26: NA | M26: Diana Carolina Molina Carvajal - Tel 6013779877 - dmolina@fbscgr.gov.co
A27: Bienestar y Calidad de vida | B27: 10 | C27: 90151700;90151800;90151500;90141700;53102200;53102900;53102700;90151502;90151501;90151701 | D27: Prestar servicios de organización logistica y desarrollo de programas de recreacion cultura deportes y salud dirigido a las Gerencias Departamentales- Cauca, de acuerdo al Plan de Bienestar | E27: Abril | F27: 8 | G27: CONTRATACION_DIRECTA | H27: Presupuesto General de la Nación – PGN | I27: 45760000 | J27: 45760000 | K27: No | L27: NA | M27: Diana Carolina Molina Carvajal - Tel 6013779877 - dmolina@fbscgr.gov.co
A28: Bienestar y Calidad de vida | B28: 11 | C28: 90151700;90151800;90151500;90141700;53102200;53102900;53102700;90151502;90151501;90151701 | D28: Prestar servicios de organización logistica y desarrollo de programas de recreacion cultura deportes y salud dirigido a las Gerencias Departamentales- Chocó, de acuerdo al Plan de Bienestar | E28: Marzo | F28: 9 | G28: SELECCION_ABREVIADA | H28: Presupuesto General de la Nación – PGN | I28: 49203000 | J28: 49203000 | K28: No | L28: NA | M28: Diana Carolina Molina Carvajal - Tel 6013779877 - dmolina@fbscgr.gov.co
A29: Bienestar y Calidad de vida | B29: 12 | C29: 90151700;90151800;90151500;90141700;53102200;53102900;53102700;90151502;90151501;90151701 | D29: Prestar servicios de organización logistica y desarrollo de programas de recreacion cultura deportes y salud dirigido a las Gerencias Departamentales- Córdoba, de acuerdo al Plan de Bienestar | E29: Abril | F29: 8 | G29: CONTRATACION_DIRECTA | H29: Presupuesto General de la Nación – PGN | I29: 41306000 | J29: 41306000 | K29: No | L29: NA | M29: Diana Carolina Molina Carvajal - Tel 6013779877 - dmolina@fbscgr.gov.co
... A54: Desarrollo y Emprendimiento | B54: 37 | C54: 85141700;85141701;85141702 | D54: Prestación de servicios profesionales especializados en MEDICINA ALTERNATIVA Y COMPLEMENTARIA para realizar la evaluación, diagnóstico y tratamiento de las diferentes patologías de los usuarios del Programa de Salud Centro Médico del Fondo de Bienestar Social de la CGR | E54: Febrero | F54: 10 | G54: CONTRATACION_DIRECTA | H54: Presupuesto General de la Nación – PGN | I54: 45634000 | J54: 45634000 | K54: NA | L54: NA | M54: Diana Carolina Molina Carvajal - Tel 6013779877 - dmolina@fbscgr.gov.co
A55: Desarrollo y Emprendimiento | B55: 38 | C55: 85121600 | D55: Prestación de servicios profesionales especializados en MEDICINA FISICA Y REHABILITACION para realizar la evaluación clínica, diagnóstico y tratamiento de las diferentes patologías de los usuarios del Programa de Salud Centro Médico del Fondo de Bienestar Social de la CGR | E55: Febrero | F55: 10 | G55: CONTRATACION_DIRECTA | H55: Presupuesto General de la Nación – PGN | I55: 29920000 | J55: 29920000 | K55: NA | L55: NA | M55: Diana Carolina Molina Carvajal - Tel 6013779877 - dmolina@fbscgr.gov.co
A56: Desarrollo y Emprendimiento | B56: 39 | C56: 85121601 | D56: Prestación de servicios profesionales especializados en GINECOLOGIA para realizar evaluación, diagnóstico y tratamiento de las diferentes patologías de las usuarias del Programa de Salud Centro Médico del Fondo de Bienestar Social de la CGR | E56: Febrero | F56: 10 | G56: CONTRATACION_DIRECTA | H56: Presupuesto General de la Nación – PGN | I56: 48000000 | J56: 48000000 | K56: NA | L56: NA | M56: Diana Carolina Molina Carvajal - Tel 6013779877 - dmolina@fbscgr.gov.co
A57: Desarrollo y Emprendimiento | B57: 40 | C57: 86132000 | D57: Prestar servicios profesionales como docente del áea de física para el programa de Educación del Colegio para hijos de empleados de la Contraloria General de la República, del Fondo de Bienestar Social de la CGR. | E57: Marzo | F57: 9 | G57: CONTRATACION_DIRECTA | H57: Presupuesto General de la Nación – PGN | I57: 57650000 | J57: 57650000 | K57: N/A | L57: NA | M57: Diana Carolina Molina Carvajal - Tel 6013779877 - dmolina@fbscgr.gov.co
A58: Desarrollo y Emprendimiento | B58: 41 | C58: 86121500; 86141500 | D58: Prestación de servicios profesionales, como instructutor de deportes para la realización de actividades propias del Colegio para hijos de empleados de la CGR | E58: Marzo | F58: 9 | G58: CONTRATACION_DIRECTA | H58: Presupuesto General de la Nación – PGN | I58: 34650000 | J58: 34650000 | K58: N/A | L58: NA | M58: Diana Carolina Molina Carvajal - Tel 6013779877 - dmolina@fbscgr.gov.co
A59: Desarrollo y Emprendimiento | B59: 42 | C59: 86131600;86132000 | D59: Prestación de servicios profesionales, como instructutor de música para la realización de actividades propias del Colegio para hijos de empleados de la CGR | E59: Marzo | F59: 9 | G59: CONTRATACION_DIRECTA | H59: Presupuesto General de la Nación – PGN | I59: 38500000 | J59: 38500000 | K59: N/A | L59: NA | M59: Diana Carolina Molina Carvajal - Tel 6013779877 - dmolina@fbscgr.gov.co
A60: Desarrollo y Emprendimiento | B60: 43 | C60: 82141501;82141502;82141503;82141504;82141505;82141601 | D60: Prestar los servicios profesionales en el área de comunicación, diseño y/o diseño gráfico, para desarrollar actividades de comunicaciones, diseño de piezas gráficas, divulgación, promoción, cubrimiento y acompañamiento de los servicios misionales y de apoyo del Fondo de Bienestar Social de la Contraloría General de la República. | E60: Febrero | F60: 11 | G60: CONTRATACION_DIRECTA | H60: Presupuesto General de la Nación – PGN | I60: 60500000 | J60: 60500000 | K60: No | L60: NA | M60: Diana Carolina Molina Carvajal - Tel 6013779877 - dmolina@fbscgr.gov.co
A61: Desarrollo y Emprendimiento | B61: 44 | C61: 85101601 | D61: Prestación de servicios de apoyo a la gestión como auxiliar de enfermería para la institución educativa del Fondo de Bienestar Social de la Contraloría General de la República, sin que exista subordinación laboral y utilizando sus propios medios. | E61: Febrero | F61: 3 | G61: CONTRATACION_DIRECTA | H61: Presupuesto General de la Nación – PGN | I61: 7354000 | J61: 7354000 | K61: No | L61: NA | M61: Diana Carolina Molina Carvajal - Tel 6013779877 - dmolina@fbscgr.gov.co
A62: Desarrollo y Emprendimiento | B62: 45 | C62: 85161500;85161502;85161503;81101706;73152108 | D62: Prestar el servicio técnico especializado a todo costo, para el mantenimiento preventivo y/o correctivo, metrología y calibración de los EQUIPOS BIOMEDICOS para el Programa de Salud Centro Médico del Fondo de Bienestar Social dela Contraloría General de la Republica, para la vigencia 2024. | E62: Marzo | F62: 9 | G62: SUBASTA | H62: Presupuesto General de la Nación – PGN | I62: 56076000 | J62: 56076000 | K62: NA | L62: NA | M62: Diana Carolina Molina Carvajal - Tel 6013779877 - dmolina@fbscgr.gov.co
A63: Desarrollo y Emprendimiento | B63: 46 | C63: 12161500;12161503;12171509;12352104;24101510;24112600;26111700;26111702;30181614;41103206;41104107;41104108;41104112;41104121;41104122;41104213;41111504;41111508;41111509;41113035;41115816;41116000;41116001;41116004;41116005;41116008;41116010;41116014;41116100;41116104;41116105;41116106;41116107;41116108;41116120;41116121;41116122;41116126;41116127;41116129;41116130;41116136;41116138;41116139;41116205;41121502;41121600;41121607;41121700;41121701;41121708;41121711;41121800;41121811;41121816;41122601;41122602;41122605;42142500;42142502;42142515;42142521;42142523;42142531;42142609;42151505;42151600;42151602;42151603;42151604;42151606;42151611;42151613;42151614;42151621;42151624;42151625;42151629;42151635;42151636;42151638;42151639;42151647;42151660;42151661;42151681;42151700;42151703;42151704;42151800;42151805;42151806;42151810;42151900;42151901;42151902;42151905;42151910;42152200;42152400;42152407;42152423;42152428;42152443;42152450;42152453;42152454;42152457;42152465;42152500;42152502;42152504;42152507;42152508;42152512;42152514;42152600;42152601;42152800;42152805;42281704;42281705;42281904;42281914;42292904;42312206;46181804;47121709;47131502;47131700;47131807;52121700;52121701;52121704;72151800;42251600;42251607;42251608;42251618;42251623;47121701;42192210;42211501;42211502;42251608;42251610;42251612;42251618;42251619;42251621;42251623;42251624;31241706;42192107;42182902;41103903 | D63: Compra de INSUMOS, DISPOSITIVOS MEDICOS Y PRODUCTOS FARMACEUTICOS (insumos y reactivos de laboratorio clínico, insumos de odontología, insumos medico quirurgicos, de fisioterapia) para el Programa de Salud Centro Médico del FBS para la vigencia 2024. | E63: Marzo | F63: 1 | G63: SUBASTA | H63: Presupuesto General de la Nación – PGN | I63: 116755000 | J63: 116755000 | K63: NA | L63: NA | M63: Diana Carolina Molina Carvajal - Tel 6013779877 - dmolina@fbscgr.gov.co
A64: Desarrollo y Emprendimiento | B64: 47 | C64: 41116100;41116107;41116122;41116139 | D64: Adquirir los controles de calidad del laboratorio clínico para el Programa de Salud Centro Médico del Fondo de Bienestar Social de la Contraloría General de la República durante la vigencia 2024. | E64: Marzo | F64: 10 | G64: CONTRATACION_MINIMA_CUANTIA | H64: Presupuesto General de la Nación – PGN | I64: 9833000 | J64: 9833000 | K64: N/A | L64: NA | M64: Diana Carolina Molina Carvajal - Tel 6013779877 - dmolina@fbscgr.gov.co
A65: Desarrollo y Emprendimiento | B65: 48 | C65: 81112200;43232300 | D65: Prestar los servicios de outsorcing, soporte y el mantenimiento del Software de salud del Centro Medico del Fondo de Bienestar Social de la Contraloría General de la República | E65: Enero | F65: 11 | G65: CONTRATACION_DIRECTA | H65: Presupuesto General de la Nación – PGN | I65: 55000000 | J65: 55000000 | K65: NA | L65: NA | M65: Diana Carolina Molina Carvajal - Tel 6013779877 - dmolina@fbscgr.gov.co
A66: Desarrollo y Emprendimiento | B66: 49 | C66: 76121900;76121901 | D66: Contratar el servicio para la gestión integral de los residuos hospitalarios y similares generados en el Centro Médico del FBS de la CGR durante la vigencia 2024 | E66: Febrero | F66: 11 | G66: CONTRATACION_MINIMA_CUANTIA | H66: Presupuesto General de la Nación – PGN | I66: 1650000 | J66: 1650000 | K66: N/A | L66: NA | M66: Diana Carolina Molina Carvajal - Tel 6013779877 - dmolina@fbscgr.gov.co
A67: Desarrollo y Emprendimiento | B67: 50 | C67: 93141700 | D67: Prestar el servicio de organización, apoyo logístico y eventos institucionales para el servicio de organización y ejecución de las actividades feria del libro, día del estudiante, día de la familia, festival de inglés, convivencias y ceremonia de grados estudiantes del colegio para hijos de empleados de la Contraloría General de la República. | E67: Marzo | F67: 5 | G67: CONTRATACION_DIRECTA | H67: Presupuesto General de la Nación – PGN | I67: 140000000 | J67: 140000000 | K67: N/A | L67: NA | M67: Diana Carolina Molina Carvajal - Tel 6013779877 - dmolina@fbscgr.gov.co
...

Sheet M02-ABRIL17
C2: PLAN ANUAL DE ADQUISICIONES
C4: A. INFORMACIÓN GENERAL DE LA ENTIDAD
C5: Nombre | D5: FONDO DE BIENESTAR SOCIAL DE LA CONTRALORIA GENERAL DE LA REPUBLICA | G5: El principal objetivo del Plan Anual de Adquisiciones es permitir que la entidad estatal aumente la probabilidad de lograr mejores condiciones de competencia a través de la participación de un mayor número de operadores económicos interesados en los procesos de selección que se van a adelantar durante el año fiscal, y que el Estado cuente con información suficiente para realizar compras coordinadas.
C6: Dirección | D6: CARRERA 69 No.44-35 piso 4
C7: Teléfono
C8: Página web
C9: Misión y visión | D9: MISION: Ofrecer servicios de bienestar con oportunidad, por medio de programas que mejoren la calidad de vida de nuestros usuarios y sus familias. VISION: Posicionarnos en el 2026 como gestores de bienestar mediante la transformación, agilidad oportunidad y mejora en la prestación de los servicios, soportados en un talento humano dispuesto al cambio.
C10: Perspectiva estratégica | D10: Durante el cuatrienio 2022-2026 el Fondo de Bienestar Social de la Contraloría General de la República desarrollará cuatro objetivos: Mejorar la satisfacción de los usuarios mediante la prestación efectiva de los servicios de bienestar, respondiendo a sus necesidades y expectativas de calidad y oportunidad. Alcanzar en el 2026 el 90% de avance en la implementación de la política TICs del Estado de manera que los resultados se reflejen en la gestión interna, así como en la entrega de servicios digitales a usuarios y grupos de interés. Alcanzar en el 2026 el 90% de avance en la implementación de la política TICs del Estado de manera que los resultados se reflejen en la gestión interna, así como en la entrega de servicios digitales a usuarios y grupos de interés. Fortalecer la gestión del Talento Humano para que responda a los retos del contexto institucional, a partir del desarrollo integral de habilidades, reducción de brechas en competencias laborales y adaptación permanente al cambio. Aumentar el desempeño institucional por medio de la implementación del proceso de reorganización administrativa, gestión, seguimiento y control permanentes de los recursos financieros y mejora de la infraestructura física. Para alcanzar estos objetivos fueron programadas once estrategias y veinticinco productos estratégicos.
C11: Información de contacto | D11: CARMEN TERESA CASTAÑEDA VILLAMIZAR | G11: El Plan Anual de Adquisiciones es un documento de naturaleza informativa y las adquisiciones incluidas en el mismo pueden ser canceladas, revisadas o modificadas. Esta información no representa compromiso u obligación alguna por parte de la entidad estatal ni la compromete a adquirir los bienes, obras y servicios en él señalados.
C12: Valor total del PAA | D12: =+J118 -> 9283874000
C13: Límite de contratación menor cuantía | D13: 364000000
C14: Límite de contratación mínima cuantía | D14: 36400000
C15: Fecha de última actualización del PAA | D15: 45302
A17: Grupo /Area | B17: item | C17: Códigos UNSPSC | D17: Descripción | E17: Fecha estimada de inicio de proceso de selección (mes) | F17: Duración estimada del contrato (número de mes(es)) | G17: Modalidad de selección | H17: Fuente de los recursos | I17: Valor total estimado | J17: Valor estimado en la vigencia actual | K17: ¿Se requieren vigencias futuras? | L17: Estado de solicitud de vigencias futuras | M17: Datos de contacto del responsable
A18: Bienestar y Calidad de vida | B18: 1 | C18: 90151700;90151800;90151500;90141700;53102200;53102900;53102700;90151502;90151501;90151701 | D18: Prestar servicios de organización logistica y desarrollo de programas de recreacion cultura deportes y salud dirigido a las Gerencias Departamentales- Amazonas, de acuerdo al Plan de Bienestar | E18: Marzo | F18: 9 | G18: CONTRATACION_DIRECTA | H18: Presupuesto General de la Nación – PGN | I18: 29765000 | J18: 29765000 | K18: No | L18: NA | M18: Diana Carolina Molina Carvajal - Tel 6013779877 - dmolina@fbscgr.gov.co
A19: Bienestar y Calidad de vida | B19: 2 | C19: 90151700;90151800;90151500;90141700;53102200;53102900;53102700;90151502;90151501;90151701 | D19: Prestar servicios de organización logistica y desarrollo de programas de recreacion cultura deportes y salud dirigido a las Gerencias Departamentales- Antioquia, de acuerdo al Plan de Bienestar | E19: Abril | F19: 8 | G19: CONTRATACION_DIRECTA | H19: Presupuesto General de la Nación – PGN | I19: 106504000 | J19: 106504000 | K19: No | L19: NA | M19: Diana Carolina Molina Carvajal - Tel 6013779877 - dmolina@fbscgr.gov.co
A20: Bienestar y Calidad de vida | B20: 3 | C20: 90151700;90151800;90151500;90141700;53102200;53102900;53102700;90151502;90151501;90151701 | D20: Prestar servicios de organización logistica y desarrollo de programas de recreacion cultura deportes y salud dirigido a las Gerencias Departamentales- Arauca, de acuerdo al Plan de Bienestar | E20: Abril | F20: 8 | G20: CONTRATACION_DIRECTA | H20: Presupuesto General de la Nación – PGN | I20: 30372000 | J20: 30372000 | K20: No | L20: NA | M20: Diana Carolina Molina Carvajal - Tel 6013779877 - dmolina@fbscgr.gov.co
A21: Bienestar y Calidad de vida | B21: 4 | C21: 90151700;90151800;90151500;90141700;53102200;53102900;53102700;90151502;90151501;90151701 | D21: Prestar servicios de organización logistica y desarrollo de programas de recreacion cultura deportes y salud dirigido a las Gerencias Departamentales- Atlantico, de acuerdo al Plan de Bienestar | E21: Abril | F21: 8 | G21: CONTRATACION_DIRECTA | H21: Presupuesto General de la Nación – PGN | I21: 75323000 | J21: 75323000 | K21: No | L21: NA | M21: Diana Carolina Molina Carvajal - Tel 6013779877 - dmolina@fbscgr.gov.co
A22: Bienestar y Calidad de vida | B22: 5 | C22: 90151700;90151800;90151500;90141700;53102200;53102900;53102700;90151502;90151501;90151701 | D22: Prestar servicios de organización logistica y desarrollo de programas de recreacion cultura deportes y salud dirigido a las Gerencias Departamentales- Bolívar, de acuerdo al Plan de Bienestar | E22: Mayo | F22: 9 | G22: CONTRATACION_DIRECTA | H22: Presupuesto General de la Nación – PGN | I22: 57909000 | J22: 57909000 | K22: No | L22: NA | M22: Diana Carolina Molina Carvajal - Tel 6013779877 - dmolina@fbscgr.gov.co
A23: Bienestar y Calidad de vida | B23: 6 | C23: 90151700;90151800;90151500;90141700;53102200;53102900;53102700;90151502;90151501;90151701 | D23: Prestar servicios de organización logistica y desarrollo de programas de recreacion cultura deportes y salud dirigido a las Gerencias Departamentales- Boyacá, de acuerdo al Plan de Bienestar | E23: Abril | F23: 8 | G23: SELECCION_ABREVIADA | H23: Presupuesto General de la Nación – PGN | I23: 60744000 | J23: 60744000 | K23: No | L23: NA | M23: Diana Carolina Molina Carvajal - Tel 6013779877 - dmolina@fbscgr.gov.co
A24: Bienestar y Calidad de vida | B24: 7 | C24: 90151700;90151800;90151500;90141700;53102200;53102900;53102700;90151502;90151501;90151701 | D24: Prestar servicios de organización logistica y desarrollo de programas de recreacion cultura deportes y salud dirigido a las Gerencias Departamentales- Caldas, de acuerdo al Plan de Bienestar | E24: Abril | F24: 8 | G24: CONTRATACION_DIRECTA | H24: Presupuesto General de la Nación – PGN | I24: 46165000 | J24: 46165000 | K24: No | L24: NA | M24: Diana Carolina Molina Carvajal - Tel 6013779877 - dmolina@fbscgr.gov.co
A25: Bienestar y Calidad de vida | B25: 8 | C25: 90151700;90151800;90151500;90141700;53102200;53102900;53102700;90151502;90151501;90151701 | D25: Prestar servicios de organización logistica y desarrollo de programas de recreacion cultura deportes y salud dirigido a las Gerencias Departamentales- Casanare, de acuerdo al Plan de Bienestar | E25: Mayo | F25: 7 | G25: SELECCION_ABREVIADA | H25: Presupuesto General de la Nación – PGN | I25: 41913000 | J25: 41913000 | K25: No | L25: NA | M25: Diana Carolina Molina Carvajal - Tel 6013779877 - dmolina@fbscgr.gov.co
A26: Bienestar y Calidad de vida | B26: 9 | C26: 90151700;90151800;90151500;90141700;53102200;53102900;53102700;90151502;90151501;90151701 | D26: Prestar servicios de organización logistica y desarrollo de programas de recreacion cultura deportes y salud dirigido a las Gerencias Departamentales- Caquetá, de acuerdo al Plan de Bienestar | E26: Mayo | F26: 7 | G26: SELECCION_ABREVIADA | H26: Presupuesto General de la Nación – PGN | I26: 42521000 | J26: 42521000 | K26: No | L26: NA | M26: Diana Carolina Molina Carvajal - Tel 6013779877 - dmolina@fbscgr.gov.co
A27: Bienestar y Calidad de vida | B27: 10 | C27: 90151700;90151800;90151500;90141700;53102200;53102900;53102700;90151502;90151501;90151701 | D27: Prestar servicios de organización logistica y desarrollo de programas de recreacion cultura deportes y salud dirigido a las Gerencias Departamentales- Cauca, de acuerdo al Plan de Bienestar | E27: Abril | F27: 8 | G27: CONTRATACION_DIRECTA | H27: Presupuesto General de la Nación – PGN | I27: 45760000 | J27: 45760000 | K27: No | L27: NA | M27: Diana Carolina Molina Carvajal - Tel 6013779877 - dmolina@fbscgr.gov.co
A28: Bienestar y Calidad de vida | B28: 11 | C28: 90151700;90151800;90151500;90141700;53102200;53102900;53102700;90151502;90151501;90151701 | D28: Prestar servicios de organización logistica y desarrollo de programas de recreacion cultura deportes y salud dirigido a las Gerencias Departamentales- Chocó, de acuerdo al Plan de Bienestar | E28: Marzo | F28: 9 | G28: SELECCION_ABREVIADA | H28: Presupuesto General de la Nación – PGN | I28: 49203000 | J28: 49203000 | K28: No | L28: NA | M28: Diana Carolina Molina Carvajal - Tel 6013779877 - dmolina@fbscgr.gov.co
A29: Bienestar y Calidad de vida | B29: 12 | C29: 90151700;90151800;90151500;90141700;53102200;53102900;53102700;90151502;90151501;90151701 | D29: Prestar servicios de organización logistica y desarrollo de programas de recreacion cultura deportes y salud dirigido a las Gerencias Departamentales- Córdoba, de acuerdo al Plan de Bienestar | E29: Abril | F29: 8 | G29: CONTRATACION_DIRECTA | H29: Presupuesto General de la Nación – PGN | I29: 41306000 | J29: 41306000 | K29: No | L29: NA | M29: Diana Carolina Molina Carvajal - Tel 6013779877 - dmolina@fbscgr.gov.co
... A54: Desarrollo y Emprendimiento | B54: 37 | C54: 85141700;85141701;85141702 | D54: Prestación de servicios profesionales especializados en MEDICINA ALTERNATIVA Y COMPLEMENTARIA para realizar la evaluación, diagnóstico y tratamiento de las diferentes patologías de los usuarios del Programa de Salud Centro Médico del Fondo de Bienestar Social de la CGR | E54: Febrero | F54: 10 | G54: CONTRATACION_DIRECTA | H54: Presupuesto General de la Nación – PGN | I54: 45634000 | J54: 45634000 | K54: NA | L54: NA | M54: Diana Carolina Molina Carvajal - Tel 6013779877 - dmolina@fbscgr.gov.co
A55: Desarrollo y Emprendimiento | B55: 38 | C55: 85121600 | D55: Prestación de servicios profesionales especializados en MEDICINA FISICA Y REHABILITACION para realizar la evaluación clínica, diagnóstico y tratamiento de las diferentes patologías de los usuarios del Programa de Salud Centro Médico del Fondo de Bienestar Social de la CGR | E55: Febrero | F55: 10 | G55: CONTRATACION_DIRECTA | H55: Presupuesto General de la Nación – PGN | I55: 29920000 | J55: 29920000 | K55: NA | L55: NA | M55: Diana Carolina Molina Carvajal - Tel 6013779877 - dmolina@fbscgr.gov.co
A56: Desarrollo y Emprendimiento | B56: 39 | C56: 85121601 | D56: Prestación de servicios profesionales especializados en GINECOLOGIA para realizar evaluación, diagnóstico y tratamiento de las diferentes patologías de las usuarias del Programa de Salud Centro Médico del Fondo de Bienestar Social de la CGR | E56: Febrero | F56: 10 | G56: CONTRATACION_DIRECTA | H56: Presupuesto General de la Nación – PGN | I56: 48000000 | J56: 48000000 | K56: NA | L56: NA | M56: Diana Carolina Molina Carvajal - Tel 6013779877 - dmolina@fbscgr.gov.co
A57: Desarrollo y Emprendimiento | B57: 40 | C57: 86132000 | D57: Prestar servicios profesionales como docente del áea de física para el programa de Educación del Colegio para hijos de empleados de la Contraloria General de la República, del Fondo de Bienestar Social de la CGR. | E57: Marzo | F57: 9 | G57: CONTRATACION_DIRECTA | H57: Presupuesto General de la Nación – PGN | I57: 57650000 | J57: 57650000 | K57: N/A | L57: NA | M57: Diana Carolina Molina Carvajal - Tel 6013779877 - dmolina@fbscgr.gov.co
A58: Desarrollo y Emprendimiento | B58: 41 | C58: 86121500; 86141500 | D58: Prestación de servicios profesionales, como instructutor de deportes para la realización de actividades propias del Colegio para hijos de empleados de la CGR | E58: Marzo | F58: 9 | G58: CONTRATACION_DIRECTA | H58: Presupuesto General de la Nación – PGN | I58: 34650000 | J58: 34650000 | K58: N/A | L58: NA | M58: Diana Carolina Molina Carvajal - Tel 6013779877 - dmolina@fbscgr.gov.co
A59: Desarrollo y Emprendimiento | B59: 42 | C59: 86131600;86132000 | D59: Prestación de servicios profesionales, como instructutor de música para la realización de actividades propias del Colegio para hijos de empleados de la CGR | E59: Marzo | F59: 9 | G59: CONTRATACION_DIRECTA | H59: Presupuesto General de la Nación – PGN | I59: 38500000 | J59: 38500000 | K59: N/A | L59: NA | M59: Diana Carolina Molina Carvajal - Tel 6013779877 - dmolina@fbscgr.gov.co
A60: Desarrollo y Emprendimiento | B60: 43 | C60: 82141501;82141502;82141503;82141504;82141505;82141601 | D60: Prestar los servicios profesionales en el área de comunicación, diseño y/o diseño gráfico, para desarrollar actividades de comunicaciones, diseño de piezas gráficas, divulgación, promoción, cubrimiento y acompañamiento de los servicios misionales y de apoyo del Fondo de Bienestar Social de la Contraloría General de la República. | E60: Febrero | F60: 11 | G60: CONTRATACION_DIRECTA | H60: Presupuesto General de la Nación – PGN | I60: 60500000 | J60: 60500000 | K60: No | L60: NA | M60: Diana Carolina Molina Carvajal - Tel 6013779877 - dmolina@fbscgr.gov.co
A61: Desarrollo y Emprendimiento | B61: 44 | C61: 85101601 | D61: Prestación de servicios de apoyo a la gestión como auxiliar de enfermería para la institución educativa del Fondo de Bienestar Social de la Contraloría General de la República, sin que exista subordinación laboral y utilizando sus propios medios. | E61: Febrero | F61: 3 | G61: CONTRATACION_DIRECTA | H61: Presupuesto General de la Nación – PGN | I61: 7354000 | J61: 7354000 | K61: No | L61: NA | M61: Diana Carolina Molina Carvajal - Tel 6013779877 - dmolina@fbscgr.gov.co
A62: Desarrollo y Emprendimiento | B62: 45 | C62: 85161500;85161502;85161503;81101706;73152108 | D62: Prestar el servicio técnico especializado a todo costo, para el mantenimiento preventivo y/o correctivo, metrología y calibración de los EQUIPOS BIOMEDICOS para el Programa de Salud Centro Médico del Fondo de Bienestar Social dela Contraloría General de la Republica, para la vigencia 2024. | E62: Marzo | F62: 9 | G62: SUBASTA | H62: Presupuesto General de la Nación – PGN | I62: 56076000 | J62: 56076000 | K62: NA | L62: NA | M62: Diana Carolina Molina Carvajal - Tel 6013779877 - dmolina@fbscgr.gov.co
A63: Desarrollo y Emprendimiento | B63: 46 | C63: 12161500;12161503;12171509;12352104;24101510;24112600;26111700;26111702;30181614;41103206;41104107;41104108;41104112;41104121;41104122;41104213;41111504;41111508;41111509;41113035;41115816;41116000;41116001;41116004;41116005;41116008;41116010;41116014;41116100;41116104;41116105;41116106;41116107;41116108;41116120;41116121;41116122;41116126;41116127;41116129;41116130;41116136;41116138;41116139;41116205;41121502;41121600;41121607;41121700;41121701;41121708;41121711;41121800;41121811;41121816;41122601;41122602;41122605;42142500;42142502;42142515;42142521;42142523;42142531;42142609;42151505;42151600;42151602;42151603;42151604;42151606;42151611;42151613;42151614;42151621;42151624;42151625;42151629;42151635;42151636;42151638;42151639;42151647;42151660;42151661;42151681;42151700;42151703;42151704;42151800;42151805;42151806;42151810;42151900;42151901;42151902;42151905;42151910;42152200;42152400;42152407;42152423;42152428;42152443;42152450;42152453;42152454;42152457;42152465;42152500;42152502;42152504;42152507;42152508;42152512;42152514;42152600;42152601;42152800;42152805;42281704;42281705;42281904;42281914;42292904;42312206;46181804;47121709;47131502;47131700;47131807;52121700;52121701;52121704;72151800;42251600;42251607;42251608;42251618;42251623;47121701;42192210;42211501;42211502;42251608;42251610;42251612;42251618;42251619;42251621;42251623;42251624;31241706;42192107;42182902;41103903 | D63: Compra de INSUMOS, DISPOSITIVOS MEDICOS Y PRODUCTOS FARMACEUTICOS (insumos y reactivos de laboratorio clínico, insumos de odontología, insumos medico quirurgicos, de fisioterapia) para el Programa de Salud Centro Médico del FBS para la vigencia 2024. | E63: Marzo | F63: 1 | G63: SUBASTA | H63: Presupuesto General de la Nación – PGN | I63: 116755000 | J63: 116755000 | K63: NA | L63: NA | M63: Diana Carolina Molina Carvajal - Tel 6013779877 - dmolina@fbscgr.gov.co
A64: Desarrollo y Emprendimiento | B64: 47 | C64: 41116100;41116107;41116122;41116139 | D64: Adquirir los controles de calidad del laboratorio clínico para el Programa de Salud Centro Médico del Fondo de Bienestar Social de la Contraloría General de la República durante la vigencia 2024. | E64: Marzo | F64: 10 | G64: CONTRATACION_MINIMA_CUANTIA | H64: Presupuesto General de la Nación – PGN | I64: 9833000 | J64: 9833000 | K64: N/A | L64: NA | M64: Diana Carolina Molina Carvajal - Tel 6013779877 - dmolina@fbscgr.gov.co
A65: Desarrollo y Emprendimiento | B65: 48 | C65: 81112200;43232300 | D65: Prestar los servicios de outsorcing, soporte y el mantenimiento del Software de salud del Centro Medico del Fondo de Bienestar Social de la Contraloría General de la República | E65: Enero | F65: 11 | G65: CONTRATACION_DIRECTA | H65: Presupuesto General de la Nación – PGN | I65: 55000000 | J65: 55000000 | K65: NA | L65: NA | M65: Diana Carolina Molina Carvajal - Tel 6013779877 - dmolina@fbscgr.gov.co
A66: Desarrollo y Emprendimiento | B66: 49 | C66: 76121900;76121901 | D66: Contratar el servicio para la gestión integral de los residuos hospitalarios y similares generados en el Centro Médico del FBS de la CGR durante la vigencia 2024 | E66: Febrero | F66: 11 | G66: CONTRATACION_MINIMA_CUANTIA | H66: Presupuesto General de la Nación – PGN | I66: 1650000 | J66: 1650000 | K66: N/A | L66: NA | M66: Diana Carolina Molina Carvajal - Tel 6013779877 - dmolina@fbscgr.gov.co
A67: Desarrollo y Emprendimiento | B67: 50 | C67: 93141700 | D67: Prestar el servicio de organización, apoyo logístico y eventos institucionales para el servicio de organización y ejecución de las actividades feria del libro, día del estudiante, día de la familia, festival de inglés, convivencias y ceremonia de grados estudiantes del colegio para hijos de empleados de la Contraloría General de la República. | E67: Marzo | F67: 5 | G67: CONTRATACION_DIRECTA | H67: Presupuesto General de la Nación – PGN | I67: 140000000 | J67: 140000000 | K67: N/A | L67: NA | M67: Diana Carolina Molina Carvajal - Tel 6013779877 - dmolina@fbscgr.gov.co
...

Sheet Adquisicion 
C2: PLAN ANUAL DE ADQUISICIONES
C4: A. INFORMACIÓN GENERAL DE LA ENTIDAD
C5: Nombre | D5: FONDO DE BIENESTAR SOCIAL DE LA CONTRALORIA GENERAL DE LA REPUBLICA | G5: El principal objetivo del Plan Anual de Adquisiciones es permitir que la entidad estatal aumente la probabilidad de lograr mejores condiciones de competencia a través de la participación de un mayor número de operadores económicos interesados en los procesos de selección que se van a adelantar durante el año fiscal, y que el Estado cuente con información suficiente para realizar compras coordinadas.
C6: Dirección | D6: CARRERA 69 No.44-35 piso 4
C7: Teléfono
C8: Página web
C9: Misión y visión | D9: MISION: Ofrecer servicios de bienestar con oportunidad, por medio de programas que mejoren la calidad de vida de nuestros usuarios y sus familias. VISION: Posicionarnos en el 2026 como gestores de bienestar mediante la transformación, agilidad oportunidad y mejora en la prestación de los servicios, soportados en un talento humano dispuesto al cambio.
